BEGIN:VCALENDAR
VERSION:2.0
PRODID:-//wp-events-plugin.com//7.2.2.1//EN
TZID:America/Los_Angeles
X-WR-TIMEZONE:America/Los_Angeles
BEGIN:VEVENT
UID:11543@uucpa.org
DTSTART;TZID=America/Los_Angeles:20221113T121500
DTEND;TZID=America/Los_Angeles:20221113T131500
DTSTAMP:20221110T211613Z
URL:https://www.uucpa.org/events/2nd-sunday-lunch-4-2022-11-13/
SUMMARY:2nd Sunday Lunch
DESCRIPTION:2nd Sunday Lunch  Join us for Second Sunday Lunch\, a home-cook
 ed\, nutritious\, delicious food for a very reasonable donation. We go thr
 ough the buffet line just outside the kitchen door and eat outdoors\, weat
 her permitting. If you’re new or visiting\, be our guest. We want you to
  stay for lunch\, and we welcome new volunteers! Help is needed for Sunday
  food preparation 10:45-noon\, and for cleanup after lunch. Some volunteer
 s help most second Sundays\; others help occasionally. Contact Edie if you
  would like to join us in the kitchen.\n\nContact:      Edie Keating an
 d the Kitchen Team (food@uucpa.org) 
ATTACH;FMTTYPE=image/jpeg:https://www.uucpa.org/wp-content/uploads/2019/07
 /Second-Sunday-Lunch.png
CATEGORIES:Food
LOCATION:Patio
GEO:37.419574;-122.11249800000002
X-APPLE-STRUCTURED-LOCATION;VALUE=URI;X-ADDRESS=505 E Charleston Rd\, Palo 
 Alto\, CA\, 94306\, United States;X-APPLE-RADIUS=100;X-TITLE=Patio:geo:37.
 419574,-122.11249800000002
END:VEVENT
BEGIN:VTIMEZONE
TZID:America/Los_Angeles
X-LIC-LOCATION:America/Los_Angeles
BEGIN:STANDARD
DTSTART:20221106T010000
TZOFFSETFROM:-0700
TZOFFSETTO:-0800
TZNAME:PST
END:STANDARD
END:VTIMEZONE
END:VCALENDAR