BEGIN:VCALENDAR
VERSION:2.0
PRODID:-//wp-events-plugin.com//7.2.2.1//EN
TZID:America/Los_Angeles
X-WR-TIMEZONE:America/Los_Angeles
BEGIN:VEVENT
UID:12378@uucpa.org
DTSTART;TZID=America/Los_Angeles:20230312T113000
DTEND;TZID=America/Los_Angeles:20230312T123000
DTSTAMP:20230311T134651Z
URL:https://www.uucpa.org/events/2nd-sunday-lunch-5-2023-03-12/
SUMMARY:2nd Sunday Lunch
DESCRIPTION:2nd Sunday Lunch  Despite the cold\, the weather and even a few
  plumbing issues on campus\, Second Sunday Lunch goes on!  Please join us
  for a hot meal on a cold day!\n\nMenu:\n- Pasta - Your choice of regular
 \, whole wheat\, or GF\n- Sauces - red\, pesto\, or plain olive oil\n- Add
  ins - sauteed onions\, steamed zucchini\, steamed  broccoli - chicken 
 sausage - soy meat crumbles - parmesan cheese - and I'm sure a few more ex
 tras.\n\nSalad Bar including\n -Romaine\n -Spring Mix\n -Tuna\n -Tomat
 oes\n -Olives\n -Garbanzos\n -Red Onion\n\nCookies and fruit for desser
 t.\n\nAnd as always\nLight wheat bread\, peanut butter\, and jelly.\n\nEdi
 e Keating and the Kitchen Team \n(food@uucpa.org) 
ATTACH;FMTTYPE=image/jpeg:https://www.uucpa.org/wp-content/uploads/2023/01
 /Second-Sunday-Lunch-2.png
CATEGORIES:Food
LOCATION:Patio
GEO:37.419574;-122.11249800000002
X-APPLE-STRUCTURED-LOCATION;VALUE=URI;X-ADDRESS=505 E Charleston Rd\, Palo 
 Alto\, CA\, 94306\, United States;X-APPLE-RADIUS=100;X-TITLE=Patio:geo:37.
 419574,-122.11249800000002
END:VEVENT
BEGIN:VTIMEZONE
TZID:America/Los_Angeles
X-LIC-LOCATION:America/Los_Angeles
BEGIN:DAYLIGHT
DTSTART:20230312T030000
TZOFFSETFROM:-0800
TZOFFSETTO:-0700
TZNAME:PDT
END:DAYLIGHT
END:VTIMEZONE
END:VCALENDAR