BEGIN:VCALENDAR
VERSION:2.0
PRODID:-//wp-events-plugin.com//7.2.2.1//EN
TZID:America/Los_Angeles
X-WR-TIMEZONE:America/Los_Angeles
BEGIN:VEVENT
UID:5803@uucpa.org
DTSTART;TZID=America/Los_Angeles:20190804T103000
DTEND;TZID=America/Los_Angeles:20190804T110000
DTSTAMP:20190731T161005Z
URL:https://www.uucpa.org/events/4th-sunday-brunch-5-2019-07-28/
SUMMARY:4th Sunday Brunch (on First Sunday)
DESCRIPTION:4th Sunday Brunch (on First Sunday)  Since the All-Church Picn
 ic was on the 4th Sunday of July\, the 4th Sunday Brunch for July will be
  held today (August 4)\n\nJoin us every 4th Sunday after the first service
  for brunch.  The usual fare includes waffles\, hard boiled eggs\, and fr
 uit salad.\n\nContact Edie if you would like to join us in the kitchen.\n\
 nContact:         Edie Keating (edie_k@uucpa.org)\n\n&nbsp\; 
CATEGORIES:Food,Sunday School
LOCATION:Patio
GEO:37.419574;-122.11249800000002
X-APPLE-STRUCTURED-LOCATION;VALUE=URI;X-ADDRESS=505 E Charleston Rd\, Palo 
 Alto\, CA\, 94306\, United States;X-APPLE-RADIUS=100;X-TITLE=Patio:geo:37.
 419574,-122.11249800000002
END:VEVENT
BEGIN:VTIMEZONE
TZID:America/Los_Angeles
X-LIC-LOCATION:America/Los_Angeles
BEGIN:DAYLIGHT
DTSTART:20190310T030000
TZOFFSETFROM:-0800
TZOFFSETTO:-0700
TZNAME:PDT
END:DAYLIGHT
END:VTIMEZONE
END:VCALENDAR