BEGIN:VCALENDAR
VERSION:2.0
PRODID:-//wp-events-plugin.com//7.2.2.1//EN
TZID:America/Los_Angeles
X-WR-TIMEZONE:America/Los_Angeles
BEGIN:VEVENT
UID:14277@uucpa.org
DTSTART;TZID=America/Los_Angeles:20231115T183000
DTEND;TZID=America/Los_Angeles:20231115T200000
DTSTAMP:20231104T210052Z
URL:https://www.uucpa.org/events/a-palo-alto-conversation-about-just-actio
 n/
SUMMARY:A Palo Alto Conversation About Just Action
DESCRIPTION:A Palo Alto Conversation About Just Action  In the book The C
 olor of Law author Richard Rothstein explored the history of how governme
 nt at all levels created residential segregation.  Now he and his daughte
 r\, Leah Rothstein\, have written a sequel entitled Just Action:  Challe
 nging the Segregation Enacted Under the Color of Law which will help us u
 nderstand how to begin rectifying this situation.\n\nOn Wednesday\, Novemb
 er 15\, at 6:30 p.m. the authors will be in conversation with Palo Alto C
 ity Councilmember Julie Lythcott-Haims about their new book.  The event w
 ill take place at Imagination Lab School\, 4050 Middlefield Rd\, Palo Alto
 .  The UUCPA Action Council is a co-sponsor of this event and will have a
  presence there.  We hope you will register (see link below) and join us 
 there!\n\nRegistration link here. 
ATTACH;FMTTYPE=image/jpeg:https://www.uucpa.org/wp-content/uploads/2023/11
 /A-Palo-Alto-Conversation-about-Just-Action.png
CATEGORIES:Non-UUCPA
LOCATION:Imagination Lab School
X-APPLE-STRUCTURED-LOCATION;VALUE=URI;X-ADDRESS=4050 Middlefield Road\, Pal
 o Alto\, CA\, United States;X-APPLE-RADIUS=100;X-TITLE=Imagination Lab Sch
 ool:geo:0,0
END:VEVENT
BEGIN:VTIMEZONE
TZID:America/Los_Angeles
X-LIC-LOCATION:America/Los_Angeles
BEGIN:STANDARD
DTSTART:20231105T010000
TZOFFSETFROM:-0700
TZOFFSETTO:-0800
TZNAME:PST
END:STANDARD
END:VTIMEZONE
END:VCALENDAR