BEGIN:VCALENDAR
VERSION:2.0
PRODID:-//wp-events-plugin.com//7.2.2.1//EN
TZID:America/Los_Angeles
X-WR-TIMEZONE:America/Los_Angeles
BEGIN:VEVENT
UID:11244@uucpa.org
DTSTART;TZID=America/Los_Angeles:20230320T190000
DTEND;TZID=America/Los_Angeles:20230320T200000
DTSTAMP:20230318T153105Z
URL:https://www.uucpa.org/events/action-council-meeting-5-2023-03-19/
SUMMARY:Action Council Meeting
DESCRIPTION:Action Council Meeting  The meeting is via Zoom.\n\nhttps://www
 .uucpa.org/justice/action-council/\n 
CATEGORIES:Action Council,Committee Meetings,Justice
END:VEVENT
BEGIN:VTIMEZONE
TZID:America/Los_Angeles
X-LIC-LOCATION:America/Los_Angeles
BEGIN:DAYLIGHT
DTSTART:20230312T030000
TZOFFSETFROM:-0800
TZOFFSETTO:-0700
TZNAME:PDT
END:DAYLIGHT
END:VTIMEZONE
END:VCALENDAR