BEGIN:VCALENDAR
VERSION:2.0
PRODID:-//wp-events-plugin.com//7.2.2.1//EN
TZID:America/Los_Angeles
X-WR-TIMEZONE:America/Los_Angeles
BEGIN:VEVENT
UID:13241@uucpa.org
DTSTART;TZID=America/Los_Angeles:20230730T113000
DTEND;TZID=America/Los_Angeles:20230730T140000
DTSTAMP:20230729T163932Z
URL:https://www.uucpa.org/events/all-church-picnic-party/
SUMMARY:All-Church Picnic/Party
DESCRIPTION:All-Church Picnic/Party  Mark your calendar for the July 30 Ann
 ual Picnic\, back for the first time since covid!  We are looking for glo
 rious grillers\,  delicious desserts\, and awesome people who want to hel
 p set up and clean up. Sign up here! If you have any questions please reac
 h out to Edie.\n\nWhere: At Mitchell Park (behind UUCPA)\n\nWhen: Sunday\
 , July 30 after service is out (~11:15/30 am). Walk on over via the pedest
 rian bridge or drive over.\n\nHope to see everyone there!\n\n\n\nOur signu
 ps are looking Really Good!  We have lots of desserts and set up help/cle
 an up help. Thanks!\n\nYou may be wondering - what's our menu? And where 
 in Mitchell Park?\n\nOur picnic site this year is at the far side of Mitch
 ell Park\, just off East Meadow. If you see the red spider dome\, you hav
 e found our site. Our group picnic area is right next to this play structu
 re and under shady redwood trees. Our site is also very close to the inter
 section of Cowper St. and East Meadow.\n\nWalk or Drive? Your choice.\nGo
 ogle says it will take 9 minutes to walk from church.\nIf you drive\, look
  for parking either on E. Meadow\, including in front of Fair Meadow Eleme
 ntary School\, or in the parking lot with an entrance on E. Meadow.\n\nOur
  Menu:\nChicken hot dogs and sausages\nVeggie patties\n(We will do our bes
 t to have the labels at hands if you need to check the ingredients)\nBuns 
 and gluten-free buns\nDiced onion\, sliced tomato\, condiments\nChips and 
 Salsa\nHomemade Potato Salad\nVegetarian Baked Beans\nSalad Bar\nWater\, 
 lemonade\, beer\, wine\n\nDesserts - if you signed up to bring dessert\,
  you can bring your dessert with you when you head over after service.\nOR
  - drop your dessert in the kitchen ideally before service\, and we will d
 rive over the desserts we have\, so you can walk to the picnic if that app
 eals. We will have serving utensils.\n\nHope to see you there!\n\n\n\n 
ATTACH;FMTTYPE=image/jpeg:https://www.uucpa.org/wp-content/uploads/2023/07
 /2023-UUCPA-All-Church-Picnic.png
CATEGORIES:Food,Special Events
LOCATION:Mitchell Park\, Palo Alto
GEO:37.4222348;-122.1153339
X-APPLE-STRUCTURED-LOCATION;VALUE=URI;X-ADDRESS=600 E Meadow Dr\, Palo Alto
 \, CA\, 94306\, United States;X-APPLE-RADIUS=100;X-TITLE=Mitchell Park\, P
 alo Alto:geo:37.4222348,-122.1153339
END:VEVENT
BEGIN:VTIMEZONE
TZID:America/Los_Angeles
X-LIC-LOCATION:America/Los_Angeles
BEGIN:DAYLIGHT
DTSTART:20230312T030000
TZOFFSETFROM:-0800
TZOFFSETTO:-0700
TZNAME:PDT
END:DAYLIGHT
END:VTIMEZONE
END:VCALENDAR