BEGIN:VCALENDAR
VERSION:2.0
PRODID:-//wp-events-plugin.com//7.2.2.1//EN
TZID:America/Los_Angeles
X-WR-TIMEZONE:America/Los_Angeles
BEGIN:VEVENT
UID:11249@uucpa.org
DTSTART;TZID=America/Los_Angeles:20220807T104500
DTEND;TZID=America/Los_Angeles:20220807T124500
DTSTAMP:20220723T155111Z
URL:https://www.uucpa.org/events/all-congregation-meeting/
SUMMARY:All-Congregation\, Campus Vision Meeting
DESCRIPTION:All-Congregation\, Campus Vision Meeting  \nGo\, UUCPA!  Our 
 Campus Vision input so far has really helped our architect start to unders
 tand where we want to go from here.\nWhat's next?  An all-church meeting
  on Sunday\, August 7!  That's where we will:\n\n\n\n\n\n\n\n\n 	Get a su
 mmary from our architect team on what they have heard so far.\n 	Learn wh
 at our remodeled campus might include\, based on our wishes\, and also on
  what modern buildings require.\n 	Give the architect team our feedback on
  their work and understanding so far.\n\n\nYOUR VOICE IS CRITICAL! Our be
 st way forward is one that includes all of our voices. That's why instead 
 of our usual 11am worship service\, on Sunday\, August 7 we'll gather f
 rom 10:45-12:45 to further refine our collective vision. And just like o
 ur usual 11 am service\, childcare will be provided.\n\nWant one more reas
 on to come? "First Sunday Lunch" will be served after the meeting! Yum!\n\
 nAlso\, you don't have to miss the worship service altogether that day--th
 e 9:30 service will be indoor/outdoor/Zoom like the 11:00 usually is.\n\nQ
 uestions? Contact the Campus Vision Task Force (Sally Ahnger\, Edie Keat
 ing\, Bill Hilton\, Jeff Cashdollar\, Barbara Smith-Thomas\, Thida Cornes\
 , Drew Oman\, Kevin Crane\, Maria Almli)\n\n\n\n\n 
ATTACH;FMTTYPE=image/jpeg:https://www.uucpa.org/wp-content/uploads/2022/07
 /Campus-Vision-All-church-Meeting.png
CATEGORIES:Special Events
LOCATION:Main Hall
X-APPLE-STRUCTURED-LOCATION;VALUE=URI;X-ADDRESS=505 E Charleston Rd\, Palo 
 Alto\, CA\, 94306\, United States;X-APPLE-RADIUS=100;X-TITLE=Main Hall:geo
 :0,0
END:VEVENT
BEGIN:VTIMEZONE
TZID:America/Los_Angeles
X-LIC-LOCATION:America/Los_Angeles
BEGIN:DAYLIGHT
DTSTART:20220313T030000
TZOFFSETFROM:-0800
TZOFFSETTO:-0700
TZNAME:PDT
END:DAYLIGHT
END:VTIMEZONE
END:VCALENDAR