BEGIN:VCALENDAR
VERSION:2.0
PRODID:-//wp-events-plugin.com//7.2.2.1//EN
TZID:America/Los_Angeles
X-WR-TIMEZONE:America/Los_Angeles
BEGIN:VEVENT
UID:16656@uucpa.org
DTSTART;TZID=America/Los_Angeles:20241217T140000
DTEND;TZID=America/Los_Angeles:20241217T150000
DTSTAMP:20241208T030455Z
URL:https://www.uucpa.org/events/all-i-want-for-the-holidays/
SUMMARY:Cancelled: in-person version of All I Want for the Holidays . . .
DESCRIPTION:Cancelled: in-person version of All I Want for the Holidays . .
  .  I need to be out of town due to an illness in my family\, so the in-pe
 rson version of this event has been cancelled. The online version will sti
 ll take place two days from now\, on Thursday December 19\, 2-3 pm. Hope t
 o see you there! --Amy 
ATTACH;FMTTYPE=image/jpeg:https://www.uucpa.org/wp-content/uploads/2024/11
 /All-I-Want-for-the-Holidays.1.png
CATEGORIES:Adults,Holidays,Small Groups,Social,Special Events
LOCATION:Room TBD
GEO:37.419383;-122.112258
X-APPLE-STRUCTURED-LOCATION;VALUE=URI;X-ADDRESS=505 E Charleston Rd\, Palo 
 Alto\, CA\, 94306\, United States;X-APPLE-RADIUS=100;X-TITLE=Room TBD:geo:
 37.419383,-122.112258
END:VEVENT
BEGIN:VTIMEZONE
TZID:America/Los_Angeles
X-LIC-LOCATION:America/Los_Angeles
BEGIN:STANDARD
DTSTART:20241103T010000
TZOFFSETFROM:-0700
TZOFFSETTO:-0800
TZNAME:PST
END:STANDARD
END:VTIMEZONE
END:VCALENDAR