BEGIN:VCALENDAR
VERSION:2.0
PRODID:-//wp-events-plugin.com//7.2.2.1//EN
TZID:America/Los_Angeles
X-WR-TIMEZONE:America/Los_Angeles
BEGIN:VEVENT
UID:16885@uucpa.org
DTSTART;TZID=America/Los_Angeles:20250628T070000
DTEND;TZID=America/Los_Angeles:20250628T140000
DTSTAMP:20250614T230630Z
URL:https://www.uucpa.org/events/american-humanist-association-annual-conf
 erence-watch-party/
SUMMARY:American Humanist Association Annual Conference Watch Party
DESCRIPTION:American Humanist Association Annual Conference Watch Party  Th
 is month\, the American Humanist Association is holding its 84th Annual Co
 nference\, entitled "Humanists Move America". We invite you to join us for
  a watch party\, like we held last year\, so we can participate in the con
 ference together.\n\n\n 	Format: In-person\n 	Host: Humanists at UUCPA\n 	
 When: Saturday\, June 28\, 7am-2pm (In-person conference is in Chicago)\n 
 	Where: Unitarian Universalist Church of Palo Alto\n 	Room 10\, the meetin
 g room closest to the parking lot\n 	505 East Charleston Road\, Palo Alto\
 , CA 94306\n\nSessions:\n\n 	7am Swipe Left\, Swipe Right: The Future of M
 ating and Marriage - A Humanist’s Perspective with Darrel Ray\n 	8am The
  Future of Civic Power: How Humanists Can Reimagine Democracy with Sharon 
 Welch\n 	9am The Secular Case for Reparations with Cynthia McDonald\n 	11a
 m Fighting Back in the Courts: How AHA’s Legal Strategy Is Evolving for 
 2025 and Beyond with Amitai Heller\n 	12pm From Representation to Power: H
 ow Humanists Can Build a Political Movement with Wil Jeudy\, Sarah Levin\,
  Karina Quintanilla\, and Stephanie Vigil\n 	1pm Center for Freethought Eq
 uality Annual Meeting with North Dakota State Senator Ryan Braunberger and
  former Colorado State House member Stephanie Vigil\n\nBeing a member of t
 he humanist and atheist community is no longer an effective opposition iss
 ue in today's politics.\nAHACON25 Schedule with links to speaker biographi
 es: https://www.conference.americanhumanist.org/schedule\nThis month\, the
  AHA is holding its 84th Annual Conference\, 
ATTACH;FMTTYPE=image/jpeg:https://www.uucpa.org/wp-content/uploads/2025/06
 /American-Humanist-Association-Annual-Conference-Watch-Party.png
CATEGORIES:Adult,Learning,Ongoing Events,Small Groups
LOCATION:Room 10
GEO:37.419574;-122.11249800000002
X-APPLE-STRUCTURED-LOCATION;VALUE=URI;X-ADDRESS=505 E Charleston Road\, Pal
 o Alto\, CA\, 94306\, United States;X-APPLE-RADIUS=100;X-TITLE=Room 10:geo
 :37.419574,-122.11249800000002
END:VEVENT
BEGIN:VTIMEZONE
TZID:America/Los_Angeles
X-LIC-LOCATION:America/Los_Angeles
BEGIN:DAYLIGHT
DTSTART:20250309T030000
TZOFFSETFROM:-0800
TZOFFSETTO:-0700
TZNAME:PDT
END:DAYLIGHT
END:VTIMEZONE
END:VCALENDAR