BEGIN:VCALENDAR
VERSION:2.0
PRODID:-//wp-events-plugin.com//7.2.2.1//EN
TZID:America/Los_Angeles
X-WR-TIMEZONE:America/Los_Angeles
BEGIN:VEVENT
UID:15686@uucpa.org
DTSTART;TZID=America/Los_Angeles:20241109T173000
DTEND;TZID=America/Los_Angeles:20241109T210000
DTSTAMP:20240831T205706Z
URL:https://www.uucpa.org/events/annual-auction-2/
SUMMARY:Annual Auction
DESCRIPTION:Annual Auction  Each year in November\, the church auctions goo
 ds and services at a wonderful party with live music\, dancing\, food (hea
 vy hors d’oeuvres\, balloon lady\, live auction for the kids\, silent an
 d live auction for everyone!)\n\nSee uucpa.org/whats-happening/special-eve
 nts/all-church-auction/ for the latest details. 
ATTACH;FMTTYPE=image/jpeg:https://www.uucpa.org/wp-content/uploads/2024/08
 /UUCPA-Auction-2024-1.png
CATEGORIES:Fundraising,Special Events
LOCATION:UUCPA Main Hall & Online
GEO:37.419383;-122.112258
X-APPLE-STRUCTURED-LOCATION;VALUE=URI;X-ADDRESS=505 E Charleston Rd\, Palo 
 Alto\, CA\, United States;X-APPLE-RADIUS=100;X-TITLE=UUCPA Main Hall & Onl
 ine:geo:37.419383,-122.112258
END:VEVENT
BEGIN:VTIMEZONE
TZID:America/Los_Angeles
X-LIC-LOCATION:America/Los_Angeles
BEGIN:STANDARD
DTSTART:20241103T010000
TZOFFSETFROM:-0700
TZOFFSETTO:-0800
TZNAME:PST
END:STANDARD
END:VTIMEZONE
END:VCALENDAR