BEGIN:VCALENDAR
VERSION:2.0
PRODID:-//wp-events-plugin.com//7.2.2.1//EN
TZID:America/Los_Angeles
X-WR-TIMEZONE:America/Los_Angeles
BEGIN:VEVENT
UID:1442@uucpa.org
DTSTART;TZID=America/Los_Angeles:20170804T090000
DTEND;TZID=America/Los_Angeles:20170804T130000
DTSTAMP:20170716T202905Z
URL:https://www.uucpa.org/events/annual-yard-sale-2-2017-08-04/
SUMMARY:Annual Yard Sale - Cancelled
DESCRIPTION:Annual Yard Sale - Cancelled  The UUCPA Annual Yard Sale for 2
 017 has been canceled.  It will be rescheduled in 2018.\n\n&nbsp\; 
CATEGORIES:Fundraising
LOCATION:Main Hall
X-APPLE-STRUCTURED-LOCATION;VALUE=URI;X-ADDRESS=505 E Charleston Rd\, Palo 
 Alto\, CA\, 94306\, United States;X-APPLE-RADIUS=100;X-TITLE=Main Hall:geo
 :0,0
END:VEVENT
BEGIN:VTIMEZONE
TZID:America/Los_Angeles
X-LIC-LOCATION:America/Los_Angeles
BEGIN:DAYLIGHT
DTSTART:20170312T030000
TZOFFSETFROM:-0800
TZOFFSETTO:-0700
TZNAME:PDT
END:DAYLIGHT
END:VTIMEZONE
END:VCALENDAR