BEGIN:VCALENDAR
VERSION:2.0
PRODID:-//wp-events-plugin.com//7.2.2.1//EN
TZID:America/Los_Angeles
X-WR-TIMEZONE:America/Los_Angeles
BEGIN:VEVENT
UID:3218@uucpa.org
DTSTART;TZID=America/Los_Angeles:20180312T190000
DTEND;TZID=America/Los_Angeles:20180312T200000
DTSTAMP:20180307T165533Z
URL:https://www.uucpa.org/events/audio-visual-task-force-meeting/
SUMMARY:Audio/Visual Task Force Meeting
DESCRIPTION:Audio/Visual Task Force Meeting  We are forming an Audio/Visual
  Task Force.\n\nAre you:\n\n\n 	Savvy with audio equiptments\n 	Knowledgea
 ble with visual solutions\n 	Has idea on how to improve the Main hall expe
 rience\n 	Just want to help\n\nCurrently we have Chaz Cassel\, Liz Ezben
 shade\, Fred Zeise\, and Brian Weller on the team.  We will have our fir
 st meeting scheduled for March 12th at 7 pm in room 4-5.\n\nJoin us if y
 ou are interested.  Thanks.\n 
CATEGORIES:Committee Meetings,Training
LOCATION:Room 4/5
GEO:37.419574;-122.11249800000002
X-APPLE-STRUCTURED-LOCATION;VALUE=URI;X-ADDRESS=505 E Charleston Rd\, Palo 
 Alto\, CA\, 94306\, United States;X-APPLE-RADIUS=100;X-TITLE=Room 4/5:geo:
 37.419574,-122.11249800000002
END:VEVENT
BEGIN:VTIMEZONE
TZID:America/Los_Angeles
X-LIC-LOCATION:America/Los_Angeles
BEGIN:DAYLIGHT
DTSTART:20180311T030000
TZOFFSETFROM:-0800
TZOFFSETTO:-0700
TZNAME:PDT
END:DAYLIGHT
END:VTIMEZONE
END:VCALENDAR