BEGIN:VCALENDAR
VERSION:2.0
PRODID:-//wp-events-plugin.com//7.2.2.1//EN
TZID:America/Los_Angeles
X-WR-TIMEZONE:America/Los_Angeles
BEGIN:VEVENT
UID:5242@uucpa.org
DTSTART;TZID=America/Los_Angeles:20181215T190000
DTEND;TZID=America/Los_Angeles:20181215T210000
DTSTAMP:20181203T194741Z
URL:https://www.uucpa.org/events/aurora-singers-concert-holiday-lights/
SUMMARY:Aurora Singers Concert - Holiday Lights
DESCRIPTION:Aurora Singers Concert - Holiday Lights  A Benefit Concert for 
 UUCPA\nSaturday\, December 15th\n7:00 pm - Doors open at 6:30 pm - Come Ea
 rly!\nTickets $15 - come by the office at UUCPA for tickets Monday - Frida
 y anytime between 9:00 and 2:00 pm.\n\nCome to celebrate the season as we 
 sing songs of light!  Stars and candles light the way to the holidays and
  the time of hope\, with prayers for peace and unity.  You'll hear some o
 ld favorites and make a few new favorites - and get a chance to sing some 
 songs yourselves in our popular singalongs.  Following the concert\, plea
 se join us at our world-renowned reception in the Fireside Room. 
ATTACH;FMTTYPE=image/jpeg:https://www.uucpa.org/wp-content/uploads/2018/12
 /Aurora-Singers-1.png
CATEGORIES:Holidays,Music,Special Events
LOCATION:UUCPA
GEO:37.419574;-122.11249800000002
X-APPLE-STRUCTURED-LOCATION;VALUE=URI;X-ADDRESS=505 E Charleston Rd\, Palo 
 Alto\, CA\, 94306\, United States;X-APPLE-RADIUS=100;X-TITLE=UUCPA:geo:37.
 419574,-122.11249800000002
END:VEVENT
BEGIN:VTIMEZONE
TZID:America/Los_Angeles
X-LIC-LOCATION:America/Los_Angeles
BEGIN:STANDARD
DTSTART:20181104T010000
TZOFFSETFROM:-0700
TZOFFSETTO:-0800
TZNAME:PST
END:STANDARD
END:VTIMEZONE
END:VCALENDAR