BEGIN:VCALENDAR
VERSION:2.0
PRODID:-//wp-events-plugin.com//7.2.2.1//EN
TZID:America/Los_Angeles
X-WR-TIMEZONE:America/Los_Angeles
BEGIN:VEVENT
UID:1278@uucpa.org
DTSTART;TZID=America/Los_Angeles;VALUE=DATE:20170717
DTEND;TZID=America/Los_Angeles;VALUE=DATE:20170718
DTSTAMP:20170118T174453Z
URL:https://www.uucpa.org/events/bass-lake-regular-registration-full-payme
 nt-deadline/
SUMMARY:Bass Lake Regular Registration Full Payment Deadline
DESCRIPTION:Bass Lake Regular Registration Full Payment Deadline  \n\n\n\n2
 017 Bass Lake Weekend: August 17th – August 20th\, 2017\n\n\n\n\n\nUUCPA
  and Camp Alumni only registration is January 15th to January 31st\, 2017.
 \nNew 2017 – Early Bird Registration - (Place a deposit before January 3
 1st and pay in full by March 31st):\n\n\n\n\n\n\n 	Age 13 and up: $255\n 
 	Age 6 to 12: $155\n 	5 and younger: free\n 	Minimum cabin fee: $665\n 
 	Cabin Deposit: $200 per Cabin (full payment due by March 31st)\n\nFull F
 ee Registration (Deposit after January 31st or Full Payment after March 31
 st):\n\n\n\n\n 	Age 13 and up: $275\n 	Age 6 to 12: $175\n 	5 and younge
 r: free\n 	Minimum cabin fee: $725\n 	Cabin Deposit: $350 per Cabin (wi
 ll be held until July 17th)\n\nClick here for more information and the reg
 istration form.\n\n\n\n\n\n\nExperience a wonderful long weekend at a beau
 tiful mountain camp where all ages are welcome\, where delicious meals are
  cooked for you\, where there are no committee meetings\, no chores\, and 
 no instructions except to have fun. At 3\,400 ft. elevation\, the Skylake 
 Yosemite Camp sits among the pines with its own private Bass Lake waterfro
 nt. The camp is located near Oakhurst\, about four hours from Palo Alto. W
 eather is typically warm in the daytime\, but temperatures can dip to 45°
 F in the evening. Rain is possible. Dress is very casual.\n\nNEW FOR 2017\
 nBecause of staffing issues aggravated by US immigration policy our host\,
  Skylake Yosemite Camp\, cannot offer UUCPA exclusive use of their campgro
 unds for a weekend in 2017. As a result\, we will need to share the campgr
 ounds with other Skylake Yosemite Family camp registrants and follow their
  standard Family camp fee schedule and registration timeline. This means n
 ot all cabins will be available to UUCPA families and we will need to rese
 rve our cabins by registering and paying earlier than we have in the past.
  New timeline and fees including a new deposit option are explained below 
 and in the registration brochure.\n\nQuestions? basslakeuucpa@gmail.com 
CATEGORIES:Special Events
END:VEVENT
BEGIN:VTIMEZONE
TZID:America/Los_Angeles
X-LIC-LOCATION:America/Los_Angeles
BEGIN:DAYLIGHT
DTSTART:20170312T030000
TZOFFSETFROM:-0800
TZOFFSETTO:-0700
TZNAME:PDT
END:DAYLIGHT
END:VTIMEZONE
END:VCALENDAR