BEGIN:VCALENDAR
VERSION:2.0
PRODID:-//wp-events-plugin.com//7.2.2.1//EN
TZID:America/Los_Angeles
X-WR-TIMEZONE:America/Los_Angeles
BEGIN:VEVENT
UID:17449@uucpa.org
DTSTART;TZID=America/Los_Angeles:20250719T180000
DTEND;TZID=America/Los_Angeles:20250719T204500
DTSTAMP:20250719T152816Z
URL:https://www.uucpa.org/events/bbq-potluck-and-game-night/
SUMMARY:BBQ Potluck and Game Night
DESCRIPTION:BBQ Potluck and Game Night  We're having a BBQ Potluck on Satur
 day\, July 19 followed by our monthly board game night.  Come for either 
 or both!  We'll eat around 6:15\, games start around 7. CYRE (Children an
 d Youth Religious Education Committee) is hosting - everyone at UUCPA is i
 nvited!\n\nHere's the plan\n\n 	Arrive at 6pm and we will start eating aro
 und 6:15\n 	Grilled chicken patties and veggie patties provided\, with bun
 s\, mustard etc..\n 	S'more makings provided.\n 	Potluck side dishes are w
 elcome and encouraged.\n 	Potluck desserts are welcome and encouraged.\n 	
 The playground will be open.\n 	After dinner\, stay and chat\, or join gam
 e night (~ 7pm-9pm)\n\nHope to see you Saturday!\nEdie Keating\, for the C
 YRE Committee 
ATTACH;FMTTYPE=image/jpeg:https://www.uucpa.org/wp-content/uploads/2025/07
 /BBQ-Potluck-and-Game-Night.png
CATEGORIES:Children &amp; Youth,Food,Ongoing Events,Special Events
LOCATION:Room 4/5
GEO:37.419574;-122.11249800000002
X-APPLE-STRUCTURED-LOCATION;VALUE=URI;X-ADDRESS=505 E Charleston Rd\, Palo 
 Alto\, CA\, 94306\, United States;X-APPLE-RADIUS=100;X-TITLE=Room 4/5:geo:
 37.419574,-122.11249800000002
END:VEVENT
BEGIN:VTIMEZONE
TZID:America/Los_Angeles
X-LIC-LOCATION:America/Los_Angeles
BEGIN:DAYLIGHT
DTSTART:20250309T030000
TZOFFSETFROM:-0800
TZOFFSETTO:-0700
TZNAME:PDT
END:DAYLIGHT
END:VTIMEZONE
END:VCALENDAR