BEGIN:VCALENDAR
VERSION:2.0
PRODID:-//wp-events-plugin.com//7.2.2.1//EN
TZID:America/Los_Angeles
X-WR-TIMEZONE:America/Los_Angeles
BEGIN:VEVENT
UID:7504@uucpa.org
DTSTART;TZID=America/Los_Angeles:20191207T090000
DTEND;TZID=America/Los_Angeles:20191207T120000
DTSTAMP:20191207T150725Z
URL:https://www.uucpa.org/events/bird-watching/
SUMMARY:Bird Watching
DESCRIPTION:Bird Watching  The weather report says showers in Palo Alto tom
 orrow. That could mean beautiful skies and rainbows so let's head out to t
 he Palo Alto Baylands as planned.\n\n\nWe gather at Terminal Blvd. in Moun
 tain View at 9 am. We’ll take our time and probably finish around noon.\
 n\nThis one-way loop involves a short car-shuttle. We’ll leave some cars
  parked at Terminal Boulevard\, just off the east end of San Antonio Road 
 in Palo Alto\, then carpool back along East Bayshore Road and out Embarcad
 ero Road to Byxbee Hills Park. From there\, we’ll start our walk along M
 ayfield Slough out toward the bay and around Adobe Creek Loop trail on the
  levees back to Terminal Blvd.\n\nBring warm clothes (be prepared for rain
 \, too)\, field guides\, and binoculars. 
CATEGORIES:Offsite
LOCATION:Terminal Blvd\, Mountain View
GEO:37.433479;-122.098276
X-APPLE-STRUCTURED-LOCATION;VALUE=URI;X-ADDRESS=Terminal Blvd\, Mountain Vi
 ew\, CA\, United States;X-APPLE-RADIUS=100;X-TITLE=Terminal Blvd\, Mountai
 n View:geo:37.433479,-122.098276
END:VEVENT
BEGIN:VTIMEZONE
TZID:America/Los_Angeles
X-LIC-LOCATION:America/Los_Angeles
BEGIN:STANDARD
DTSTART:20191103T010000
TZOFFSETFROM:-0700
TZOFFSETTO:-0800
TZNAME:PST
END:STANDARD
END:VTIMEZONE
END:VCALENDAR