BEGIN:VCALENDAR
VERSION:2.0
PRODID:-//wp-events-plugin.com//7.2.2.1//EN
TZID:America/Los_Angeles
X-WR-TIMEZONE:America/Los_Angeles
BEGIN:VEVENT
UID:9583@uucpa.org
DTSTART;TZID=America/Los_Angeles:20211201T190000
DTEND;TZID=America/Los_Angeles:20211201T210000
DTSTAMP:20211119T211211Z
URL:https://www.uucpa.org/events/board-of-trustees-meeting-4-2021-11-24/
SUMMARY:Board of Trustees Meeting
DESCRIPTION:Board of Trustees Meeting  Board meetings are held every fourth
  Wednesday of the month at 7:00 pm\; due to the holidays\, our November an
 d December meetings are merged into a single meeting on December 1. Meetin
 gs are open to all\, but the schedule is always tight\, so discussions are
  determined by the published agenda.\nThe Board can be contacted by sendin
 g an email to board@uucpa.org. 
CATEGORIES:Board of Trustees,Committee Meetings
END:VEVENT
BEGIN:VTIMEZONE
TZID:America/Los_Angeles
X-LIC-LOCATION:America/Los_Angeles
BEGIN:STANDARD
DTSTART:20211107T010000
TZOFFSETFROM:-0700
TZOFFSETTO:-0800
TZNAME:PST
END:STANDARD
END:VTIMEZONE
END:VCALENDAR