BEGIN:VCALENDAR
VERSION:2.0
PRODID:-//wp-events-plugin.com//7.2.2.1//EN
TZID:America/Los_Angeles
X-WR-TIMEZONE:America/Los_Angeles
BEGIN:VEVENT
UID:3687@uucpa.org
DTSTART;TZID=America/Los_Angeles:20180908T090000
DTEND;TZID=America/Los_Angeles:20180908T130000
DTSTAMP:20180702T214009Z
URL:https://www.uucpa.org/events/board-retreat/
SUMMARY:Board Retreat
DESCRIPTION:Board Retreat   
ATTACH;FMTTYPE=image/jpeg:https://www.uucpa.org/wp-content/uploads/2018/07
 /Board-Retreat.png
CATEGORIES:Board of Trustees
END:VEVENT
BEGIN:VTIMEZONE
TZID:America/Los_Angeles
X-LIC-LOCATION:America/Los_Angeles
BEGIN:DAYLIGHT
DTSTART:20180311T030000
TZOFFSETFROM:-0800
TZOFFSETTO:-0700
TZNAME:PDT
END:DAYLIGHT
END:VTIMEZONE
END:VCALENDAR