BEGIN:VCALENDAR
VERSION:2.0
PRODID:-//wp-events-plugin.com//7.2.2.1//EN
TZID:America/Los_Angeles
X-WR-TIMEZONE:America/Los_Angeles
BEGIN:VEVENT
UID:2549@uucpa.org
DTSTART;TZID=America/Los_Angeles:20171118T193000
DTEND;TZID=America/Los_Angeles:20171118T213000
DTSTAMP:20171108T193829Z
URL:https://www.uucpa.org/events/bodhi-tree-concert-intimate-treasures-cha
 mber-music-beethoven-mendelssohn/
SUMMARY:Bodhi Tree Concert - Intimate Treasures: Chamber Music of Beethoven
  and Mendelssohn
DESCRIPTION:Bodhi Tree Concert - Intimate Treasures: Chamber Music of Beeth
 oven and Mendelssohn  Bodhi Tree Concerts North and the Unitarian Univers
 alist Church of Palo Alto present “Intimate Treasures: chamber music of 
 Beethoven and Mendelssohn.” Saturday\, November 18 at 7:30pm at UUCPA.
 \n\nPianist Veronika Agranov-Dafoe\, Violinist Solenn Séguillon\, and ce
 llist James Jaffe perform a thrilling evening of chamber music masterworks
 \, including Mendelssohn's intense\, brooding Piano Trio No. 1 in D Minor\
 , Op. 49\, and Beethoven's charming Piano Trio No 1.\, Op. 1. Join us for 
 a concert that will enchant the entire family!\n\nA significant portion of
  proceeds from your ticket purchase will go directly to the Napa Valley Co
 mmunity Foundation\, for their Disaster Relief Fund to aid in rebuilding t
 heir communities and helping the suffering after the recent\, devastating 
 fires.\nTickets are available online now for $27 (www.btcnorth.org)\, and 
 will be available at the door for $30. Season subscriptions are available 
 online for a substantial savings over single-ticket prices.\n\nFor more in
 formation on music at UUCPA: https://www.uucpa.org/worship/music-and-choi
 r/ 
CATEGORIES:Music
LOCATION:Main Hall
X-APPLE-STRUCTURED-LOCATION;VALUE=URI;X-ADDRESS=505 E Charleston Rd\, Palo 
 Alto\, CA\, 94306\, United States;X-APPLE-RADIUS=100;X-TITLE=Main Hall:geo
 :0,0
END:VEVENT
BEGIN:VTIMEZONE
TZID:America/Los_Angeles
X-LIC-LOCATION:America/Los_Angeles
BEGIN:STANDARD
DTSTART:20171105T010000
TZOFFSETFROM:-0700
TZOFFSETTO:-0800
TZNAME:PST
END:STANDARD
END:VTIMEZONE
END:VCALENDAR