BEGIN:VCALENDAR
VERSION:2.0
PRODID:-//wp-events-plugin.com//7.2.2.1//EN
TZID:America/Los_Angeles
X-WR-TIMEZONE:America/Los_Angeles
BEGIN:VEVENT
UID:5473@uucpa.org
DTSTART;TZID=America/Los_Angeles:20190427T193000
DTEND;TZID=America/Los_Angeles:20190427T213000
DTSTAMP:20190402T172909Z
URL:https://www.uucpa.org/events/bodhi-tree-concert-the-music-of-mark-carl
 son/
SUMMARY:Bodhi Tree Concert - The Music of Mark Carlson
DESCRIPTION:Bodhi Tree Concert - The Music of Mark Carlson  BODHI TREE CONC
 ERTS NORTH - The Living Composers Series - The Music of Mark Carlson\n\nDa
 te: Saturday\, April 27\nTime: 7:30 pm\nLocation: Main Hall\nFacilitator: 
 Bruce Olstad\, UUCPA Music Director (music-director@uucpa.org)\n\n 	Have y
 ou ever wondered why classical music\, written by long-dead composers from
  a bygone age\, is relevant to you today?\n 	Have you ever attended a “n
 ew music” concert\, only to wish you had stuck with the long-dead compos
 ers\, instead?\n 	Have you asked yourself whether there is still a place f
 or melody and beauty in contemporary classical music?\n 	Have you ever wan
 ted to know more about the process of musical composition\, only to be fru
 strated that you couldn’t pick up a phone and ask Beethoven or Brahms ho
 w they did what they did?\n\nWell\, have we got the concert for you!\n\nJo
 in us on a wonderful journey into the world of a living composer\, Mark Ca
 rlson\, whose music has been described as lyrical\, emotionally powerful\,
  and stylistically unique. We will present a variety of works from Mark’
 s long and illustrious career\, including chamber works\, a song cycle\, a
 nd even an aria from his new opera\, The Scarlet Letter – all performed 
 by some of the best musicians to be found anywhere. Mark will speak about 
 these pieces\, about the process of composing them\, and will also answer 
 your questions.\n\nTickets are $27.  Purchase tickets in advance ($28.94 
 w/service fee) here: https://www.brownpapertickets.com/event/3617266\nALL
  PROCEEDS FROM THIS CONCERT WILL BENEFIT THE CAMP FIRE DISASTER RELIEF FUN
 D OF THE UU FELLOWSHIP OF CHICO 
ATTACH;FMTTYPE=image/jpeg:https://www.uucpa.org/wp-content/uploads/2019/03
 /Bodhi-Tree-Concert-The-Music-of-Mark-Carlson.png
CATEGORIES:Music
LOCATION:Main Hall
X-APPLE-STRUCTURED-LOCATION;VALUE=URI;X-ADDRESS=505 E Charleston Rd\, Palo 
 Alto\, CA\, 94306\, United States;X-APPLE-RADIUS=100;X-TITLE=Main Hall:geo
 :0,0
END:VEVENT
BEGIN:VTIMEZONE
TZID:America/Los_Angeles
X-LIC-LOCATION:America/Los_Angeles
BEGIN:DAYLIGHT
DTSTART:20190310T030000
TZOFFSETFROM:-0800
TZOFFSETTO:-0700
TZNAME:PDT
END:DAYLIGHT
END:VTIMEZONE
END:VCALENDAR