BEGIN:VCALENDAR
VERSION:2.0
PRODID:-//wp-events-plugin.com//7.2.2.1//EN
TZID:America/Los_Angeles
X-WR-TIMEZONE:America/Los_Angeles
BEGIN:VEVENT
UID:2338@uucpa.org
DTSTART;TZID=America/Los_Angeles:20171003T120000
DTEND;TZID=America/Los_Angeles:20171003T140000
DTSTAMP:20170910T185509Z
URL:https://www.uucpa.org/events/brown-bag-books-2-2017-10-03/
SUMMARY:Brown Bag Books - Vinegar Girl
DESCRIPTION:Brown Bag Books - Vinegar Girl  \n\n\n\nThe October BBB book is
  Vinegar Girl by Anne Tyler (fiction).\n\nIt is ostensibly a modern take o
 n Shakespeare’s Taming of the Shrew\, but is much more. “Novels such a
 s ... (this) ... are like photographs or digital clock faces that tell us 
 where we are and where we are coming from at the same time ... (this book)
  is an earthy reflection of this fleeting moment\, both lively and thought
 ful.” (Jane Smiley\, NYT Book Review). “[A] screwball comedy of manner
 s that actually channels Jane Austen more than Shakespeare. It’s clear t
 hat [Tyler] had fun with Vinegar Girl. ... A fizzy cocktail of a romantic 
 comedy\, far more sweet than acidic\, about finding a mate who appreciates
  you for your idiosyncratic\, principled self — no taming necessary.” 
 (NPR) “[An] ingenious resetting... with considerably more humor and gent
 leness than in the Bard’s version.” (Washington Post). “An effective
  retelling\, while nodding to the original text\, stands on its own.” (B
 oston Globe)\n\n\n\n\nThe Brown Bag Books group meets year-round\, except 
 in July and August. Many attendees bring their lunches\, and everyone brin
 gs a sense of humor. Monthly sessions are always lively and enjoyable.\n\n
 Books chosen by the group for discussion are usually listed in the Order o
 f Service and the Bulletin\, as well as on the UUCPA website.\n\n&nbsp\;\n
 \nContact:           Hannah Slocum (hannah_s@uucpa.org)\n\nFacil
 itator:       Various participants\n\nRegistration:   Not required
 \n\n&nbsp\;\n\nFor more information about Brown Bag Books: https://www.uu
 cpa.org/connection/affinity-groups/brown-bag-books/ 
ATTACH;FMTTYPE=image/jpeg:https://www.uucpa.org/wp-content/uploads/2016/06
 /BrownBagBooks.png
LOCATION:Fireside Room
GEO:37.419574;-122.11249800000002
X-APPLE-STRUCTURED-LOCATION;VALUE=URI;X-ADDRESS=505 E Charleston Road\, Pal
 o Alto\, CA\, 94306\, United States;X-APPLE-RADIUS=100;X-TITLE=Fireside Ro
 om:geo:37.419574,-122.11249800000002
END:VEVENT
BEGIN:VTIMEZONE
TZID:America/Los_Angeles
X-LIC-LOCATION:America/Los_Angeles
BEGIN:DAYLIGHT
DTSTART:20170312T030000
TZOFFSETFROM:-0800
TZOFFSETTO:-0700
TZNAME:PDT
END:DAYLIGHT
END:VTIMEZONE
END:VCALENDAR