BEGIN:VCALENDAR
VERSION:2.0
PRODID:-//wp-events-plugin.com//7.2.2.1//EN
TZID:America/Los_Angeles
X-WR-TIMEZONE:America/Los_Angeles
BEGIN:VEVENT
UID:2339@uucpa.org
DTSTART;TZID=America/Los_Angeles:20171107T120000
DTEND;TZID=America/Los_Angeles:20171107T140000
DTSTAMP:20170916T151150Z
URL:https://www.uucpa.org/events/brown-bag-books-2-2017-11-07/
SUMMARY:Brown Bag Books - From Under Russian Snow
DESCRIPTION:Brown Bag Books - From Under Russian Snow  The Brown Bag Book f
 or September is From Under Russian Snow (nonfiction) by Michelle Carter.\n
 \n"At age 50\, Michelle Carter\, a married mother of two adult children\, 
 left her job as editor of a suburban newspaper in the San Francisco Bay ar
 ea to move to Russia for a year as a United States Information Agency Jour
 nalist-in-Residence. There she worked with newspaper editors who struggled
  to adapt to the new concepts of press freedom and a market economy. She b
 ecame an on-the-scene witness to the second great Russian revolution. At t
 he same time\, she embarked on a personal journey that wrenched her life i
 n a way she could never have anticipated when she accepted her husband’s
  challenge to take the assignment." (Amazon)  Please join us on 11/7 at 
 noon in the Fireside Room at noon to discuss this remarkable book AND t
 o meet and hear the author herself at the meeting.  Don't miss this truly
  special event!!\n\nThe Brown Bag Books group meets year-round\, except in
  July and August. Many attendees bring their lunches\, and everyone brings
  a sense of humor. Monthly sessions are always lively and enjoyable.\n\nBo
 oks chosen by the group for discussion are usually listed in the Order of 
 Service and the Bulletin\, as well as on the UUCPA website.\n\n&nbsp\;\n\n
 Contact:           Hannah Slocum (hannah_s@uucpa.org)\n\nFacilit
 ator:       Various participants\n\nRegistration:   Not required\n
 \nFor more information about Brown Bag Books: https://www.uucpa.org/conne
 ction/affinity-groups/brown-bag-books/ 
ATTACH;FMTTYPE=image/jpeg:https://www.uucpa.org/wp-content/uploads/2016/06
 /BrownBagBooks.png
LOCATION:Fireside Room
GEO:37.419574;-122.11249800000002
X-APPLE-STRUCTURED-LOCATION;VALUE=URI;X-ADDRESS=505 E Charleston Road\, Pal
 o Alto\, CA\, 94306\, United States;X-APPLE-RADIUS=100;X-TITLE=Fireside Ro
 om:geo:37.419574,-122.11249800000002
END:VEVENT
BEGIN:VTIMEZONE
TZID:America/Los_Angeles
X-LIC-LOCATION:America/Los_Angeles
BEGIN:STANDARD
DTSTART:20171105T010000
TZOFFSETFROM:-0700
TZOFFSETTO:-0800
TZNAME:PST
END:STANDARD
END:VTIMEZONE
END:VCALENDAR