BEGIN:VCALENDAR
VERSION:2.0
PRODID:-//wp-events-plugin.com//7.2.2.1//EN
TZID:America/Los_Angeles
X-WR-TIMEZONE:America/Los_Angeles
BEGIN:VEVENT
UID:5892@uucpa.org
DTSTART;TZID=America/Los_Angeles:20200107T120000
DTEND;TZID=America/Los_Angeles:20200107T140000
DTSTAMP:20191221T004241Z
URL:https://www.uucpa.org/events/brown-bag-books-4-2020-01-07/
SUMMARY:Brown Bag Books - Tattoos on the Heart
DESCRIPTION:Brown Bag Books - Tattoos on the Heart  The January Brown Bag 
 Book selection is Tattoos on the Heart: the Power of Boundless Compassio
 n by Gregory Boyle (nonfiction.)\n\nIt is …“an astounding book and a 
 remarkable testament. No one brings more triumph and tragedy to the street
  gang story than Greg Boyle. No one brings more conviction and compassion 
 than Greg Boyle. And no one writes the gang story more beautifully.” (Am
 azon) “Incandescent\, always hope-filled and often hilarious. …(he) ma
 intains an exuberant voice that celebrates the strength\, compassion and h
 umanity of people often demonized.”- (The Christian Century)\n\nPlease j
 oin us at noon on January 7th in the Fireside Room to discuss this remarka
 ble book.\n\n&nbsp\;\n\nThe Brown Bag Books group meets year-round\, excep
 t in July and August. Many attendees bring their lunches\, and everyone br
 ings a sense of humor. Monthly sessions are always lively and enjoyable.\n
 \nBooks chosen by the group for discussion are usually listed in the Order
  of Service and the Bulletin\, as well as on the UUCPA website.\n\n&nbsp\;
 \n\nContact:           Hannah Slocum (brown-bag-books+owner@uucp
 a.org)\n\nFacilitator:       Various participants\n\nRegistration: 
   Not required\n\nhttps://www.uucpa.org/connection/affinity-groups/brown-
 bag-books/\n\n&nbsp\; 
LOCATION:Fireside Room
GEO:37.419574;-122.11249800000002
X-APPLE-STRUCTURED-LOCATION;VALUE=URI;X-ADDRESS=505 E Charleston Road\, Pal
 o Alto\, CA\, 94306\, United States;X-APPLE-RADIUS=100;X-TITLE=Fireside Ro
 om:geo:37.419574,-122.11249800000002
END:VEVENT
BEGIN:VTIMEZONE
TZID:America/Los_Angeles
X-LIC-LOCATION:America/Los_Angeles
BEGIN:STANDARD
DTSTART:20191103T010000
TZOFFSETFROM:-0700
TZOFFSETTO:-0800
TZNAME:PST
END:STANDARD
END:VTIMEZONE
END:VCALENDAR