BEGIN:VCALENDAR
VERSION:2.0
PRODID:-//wp-events-plugin.com//7.2.2.1//EN
TZID:America/Los_Angeles
X-WR-TIMEZONE:America/Los_Angeles
BEGIN:VEVENT
UID:5894@uucpa.org
DTSTART;TZID=America/Los_Angeles:20200303T120000
DTEND;TZID=America/Los_Angeles:20200303T140000
DTSTAMP:20200223T145459Z
URL:https://www.uucpa.org/events/brown-bag-books-4-2020-03-03/
SUMMARY:Brown Bag Books - The Long Haul
DESCRIPTION:Brown Bag Books - The Long Haul  \nThe BBB’s selection for Ma
 rch is The Long Haul: A Trucker's Tales of Life on the Road by Finn Murphy
  (nonfiction).\n\n\n\n“More than 30 years ago Finn Murphy dropped out of
  college to become a trucker. Since then he’s covered hundreds of thousa
 nds of miles packing\, loading\, and hauling people’s belongings all ove
 r America”...“He tells funny\, poignant\, and haunting stories of the 
 people he moves: a hoarder in New Hamp- shire\, a Virginia homeowner ragin
 g when Murphy’s truck accidentally runs down a stand of trees\, a widow 
 rushing her archaeologist husband’s remains and relics to a Navajo buria
 l ceremony in New Mexico. Brimming with personality and great characters\,
  The Long Haul explores the appeal of manual labor and shows what happens 
 behind the scenes when we call the movers.” (Amazon)\n\n  The Brown Bag
  Books group meets year-round\, except in July and August. Many attendees 
 bring their lunches\, and everyone brings a sense of humor. Monthly sessio
 ns are always lively and enjoyable. Books chosen by the group for discussi
 on are usually listed in the Order of Service and the Bulletin\, as well a
 s on the UUCPA website.  \n\nContact: Hannah Slocum (brown-bag-books+owne
 r@uucpa.org)\nFacilitator: Various participants\nRegistration: Not require
 d \n 
ATTACH;FMTTYPE=image/jpeg:https://www.uucpa.org/wp-content/uploads/2020/02
 /Brown-Bag-Books-1.png
LOCATION:Fireside Room
GEO:37.419574;-122.11249800000002
X-APPLE-STRUCTURED-LOCATION;VALUE=URI;X-ADDRESS=505 E Charleston Road\, Pal
 o Alto\, CA\, 94306\, United States;X-APPLE-RADIUS=100;X-TITLE=Fireside Ro
 om:geo:37.419574,-122.11249800000002
END:VEVENT
BEGIN:VTIMEZONE
TZID:America/Los_Angeles
X-LIC-LOCATION:America/Los_Angeles
BEGIN:STANDARD
DTSTART:20191103T010000
TZOFFSETFROM:-0700
TZOFFSETTO:-0800
TZNAME:PST
END:STANDARD
END:VTIMEZONE
END:VCALENDAR