BEGIN:VCALENDAR
VERSION:2.0
PRODID:-//wp-events-plugin.com//7.2.2.1//EN
TZID:America/Los_Angeles
X-WR-TIMEZONE:America/Los_Angeles
BEGIN:VEVENT
UID:8429@uucpa.org
DTSTART;TZID=America/Los_Angeles:20201201T120000
DTEND;TZID=America/Los_Angeles:20201201T140000
DTSTAMP:20201104T030444Z
URL:https://www.uucpa.org/events/brown-bag-books-5-2020-12-01/
SUMMARY:Brown Bag Books - Dear America: Notes of an Undocumented Citizen
DESCRIPTION:Brown Bag Books - Dear America: Notes of an Undocumented Citiz
 en  The Brown Bag Books selection for December is "Dear America:  Notes o
 f an Undocumented Citizen" by Jose Antonio Vargas (Non Fiction).\n\n"This 
 is not a book about the politics of immigration. This book—at its core
 —is not about immigration at all. This book is about homelessness\, not 
 in a traditional sense\, but about the unsettled\, unmoored psychological 
 state in which undocumented immigrants like me find ourselves. This book i
 s about lying and being forced to lie to get by\; about passing as an Amer
 ican and as a contributing citizen\; about families\, keeping them togethe
 r\, and having to make new ones when you can’t. This book is about what 
 it means to not have a home."  This is from the back cover of the book\, 
 and is written by Vargas himself.  \n \nPlease join us on December 1 a
 t noon via zoom to discuss this timely book about a topic that we cannot i
 gnore.\n\n&nbsp\;\n\nThe Brown Bag Books group meets year-round\, except i
 n July and August. Many attendees bring their lunches\, and everyone bring
 s a sense of humor. Monthly sessions are always lively and enjoyable.\n\nB
 ooks chosen by the group for discussion are usually listed in the Order of
  Service and the Bulletin\, as well as on the UUCPA website.\n\n 	Contact:
  Hannah Slocum (brown-bag-books+owner@uucpa.org)\n 	Facilitator: Various p
 articipants\n 	Registration: Not required\n 	Location: Via video conferenc
 e or in the Fireside room\n\nJoin the email list to be notified of book se
 lections and for video conference details by emailing brown-bag-books+subs
 cribe@uucpa.org. 
ATTACH;FMTTYPE=image/jpeg:https://www.uucpa.org/wp-content/uploads/2020/02
 /Brown-Bag-Books-1.png
CATEGORIES:Adult,Learning,Ongoing Events,Small Groups
END:VEVENT
BEGIN:VTIMEZONE
TZID:America/Los_Angeles
X-LIC-LOCATION:America/Los_Angeles
BEGIN:STANDARD
DTSTART:20201101T010000
TZOFFSETFROM:-0700
TZOFFSETTO:-0800
TZNAME:PST
END:STANDARD
END:VTIMEZONE
END:VCALENDAR