BEGIN:VCALENDAR
VERSION:2.0
PRODID:-//wp-events-plugin.com//7.2.2.1//EN
TZID:America/Los_Angeles
X-WR-TIMEZONE:America/Los_Angeles
BEGIN:VEVENT
UID:8435@uucpa.org
DTSTART;TZID=America/Los_Angeles:20210601T120000
DTEND;TZID=America/Los_Angeles:20210601T140000
DTSTAMP:20210304T151543Z
URL:https://www.uucpa.org/events/brown-bag-books-5-2021-06-01/
SUMMARY:Brown Bag Books - Caste: The Origins of our Discontents
DESCRIPTION:Brown Bag Books - Caste: The Origins of our Discontents  "Caste
 : The Origins of our Discontents" by Isabel Wilkerson (Non Fiction)\n\nThe
  Brown Bag Books group meets year-round\, except in July and August. Many 
 attendees bring their lunches\, and everyone brings a sense of humor. Mont
 hly sessions are always lively and enjoyable.\n\nBooks chosen by the group
  for discussion are usually listed in the Order of Service and the Bulleti
 n\, as well as on the UUCPA website.\n\n 	Contact: Hannah Slocum (brown-ba
 g-books+owner@uucpa.org)\n 	Facilitator: Various participants\n 	Registrat
 ion: Not required\n 	Location: Via video conference or in the Fireside roo
 m\n\nJoin the email list to be notified of book selections and for video c
 onference details by emailing brown-bag-books+subscribe@uucpa.org. 
ATTACH;FMTTYPE=image/jpeg:https://www.uucpa.org/wp-content/uploads/2020/02
 /Brown-Bag-Books-1.png
CATEGORIES:Adult,Learning,Ongoing Events,Small Groups
END:VEVENT
BEGIN:VTIMEZONE
TZID:America/Los_Angeles
X-LIC-LOCATION:America/Los_Angeles
BEGIN:DAYLIGHT
DTSTART:20210314T030000
TZOFFSETFROM:-0800
TZOFFSETTO:-0700
TZNAME:PDT
END:DAYLIGHT
END:VTIMEZONE
END:VCALENDAR