BEGIN:VCALENDAR
VERSION:2.0
PRODID:-//wp-events-plugin.com//7.2.2.1//EN
TZID:America/Los_Angeles
X-WR-TIMEZONE:America/Los_Angeles
BEGIN:VEVENT
UID:9697@uucpa.org
DTSTART;TZID=America/Los_Angeles:20220301T120000
DTEND;TZID=America/Los_Angeles:20220301T140000
DTSTAMP:20220213T005315Z
URL:https://www.uucpa.org/events/brown-bag-books-6-2022-03-01/
SUMMARY:Brown Bag Books
DESCRIPTION:Brown Bag Books  March Book: The Alchemist\, by Paulo Coelho\n\
 nThe Brown Bag Books group meets year-round\, except in July and August. M
 any attendees bring their lunches\, and everyone brings a sense of humor. 
 Monthly sessions are always lively and enjoyable.\n\nBooks chosen by the g
 roup for discussion are usually listed in the Order of Service and the Wee
 kly Update\, as well as on the UUCPA website.\n\n 	Contact:       
     Hannah Slocum (brown-bag-books+owner@uucpa.org)\n 	Facilitator:  
      Various participants\n 	Registration:   Not required\n 
ATTACH;FMTTYPE=image/jpeg:https://www.uucpa.org/wp-content/uploads/2020/02
 /Brown-Bag-Books-1.png
CATEGORIES:Adult,Learning,Ongoing Events
END:VEVENT
BEGIN:VTIMEZONE
TZID:America/Los_Angeles
X-LIC-LOCATION:America/Los_Angeles
BEGIN:STANDARD
DTSTART:20211107T010000
TZOFFSETFROM:-0700
TZOFFSETTO:-0800
TZNAME:PST
END:STANDARD
END:VTIMEZONE
END:VCALENDAR