BEGIN:VCALENDAR
VERSION:2.0
PRODID:-//wp-events-plugin.com//7.2.2.1//EN
TZID:America/Los_Angeles
X-WR-TIMEZONE:America/Los_Angeles
BEGIN:VEVENT
UID:9699@uucpa.org
DTSTART;TZID=America/Los_Angeles:20220503T120000
DTEND;TZID=America/Los_Angeles:20220503T140000
DTSTAMP:20220430T142450Z
URL:https://www.uucpa.org/events/brown-bag-books-6-2022-05-03/
SUMMARY:Brown Bag Books
DESCRIPTION:Brown Bag Books  May book:  The Music Shop\, by Rachel Joyce\n
 \nThe Brown Bag Books group meets year-round\, except in July and August. 
 Many attendees bring their lunches\, and everyone brings a sense of humor.
  Monthly sessions are always lively and enjoyable.\n\nBooks chosen by the 
 group for discussion are usually listed in the Order of Service and the We
 ekly Update\, as well as on the UUCPA website.\n\n 	Contact:       
     Hannah Slocum (brown-bag-books+owner@uucpa.org)\n 	Facilitator:  
      Various participants\n 	Registration:   Not required\n 
ATTACH;FMTTYPE=image/jpeg:https://www.uucpa.org/wp-content/uploads/2022/04
 /Brown-Bag-Books-May-2022.png
CATEGORIES:Adult,Learning,Ongoing Events
END:VEVENT
BEGIN:VTIMEZONE
TZID:America/Los_Angeles
X-LIC-LOCATION:America/Los_Angeles
BEGIN:DAYLIGHT
DTSTART:20220313T030000
TZOFFSETFROM:-0800
TZOFFSETTO:-0700
TZNAME:PDT
END:DAYLIGHT
END:VTIMEZONE
END:VCALENDAR