BEGIN:VCALENDAR
VERSION:2.0
PRODID:-//wp-events-plugin.com//7.2.2.1//EN
TZID:America/Los_Angeles
X-WR-TIMEZONE:America/Los_Angeles
BEGIN:VEVENT
UID:1343@uucpa.org
DTSTART;TZID=America/Los_Angeles:20170606T120000
DTEND;TZID=America/Los_Angeles:20170606T130000
DTSTAMP:20170430T144511Z
URL:https://www.uucpa.org/events/brown-bag-books-the-book-of-unknown-ameri
 cans/
SUMMARY:Brown Bag Books - The Book of Unknown Americans
DESCRIPTION:Brown Bag Books - The Book of Unknown Americans  \n\n\n\nThe Bo
 ok of Unknown Americans\n\nThis love story by Cristina Henríquez takes p
 lace in a run-down apartment building in Delaware\, home to nine families 
 who arrived in the States from various South and Central American countrie
 s\, each looking to better the lives of the next generation. In alternatin
 g chapters\, these men and women share stories of how their adopted countr
 y has left its mark on them\, for better and worse...“It is a stunning n
 ovel of hopes and dreams\, guilt and love – a book that offers a resonan
 t new definition of what it means to be an American.” (Amazon) “Vivid 
 ... Striking ... A ringing paean to love in general: to the love between m
 an and wife\, parent and child\, outsider and newcomer\, pilgrims and prom
 ised land.” (The Washington Post) Please join us on June 6 at noon in th
 e Fireside Room to discuss this very timely novel.\n\n\n\n 
CATEGORIES:Adult
LOCATION:Fireside Room
GEO:37.419574;-122.11249800000002
X-APPLE-STRUCTURED-LOCATION;VALUE=URI;X-ADDRESS=505 E Charleston Road\, Pal
 o Alto\, CA\, 94306\, United States;X-APPLE-RADIUS=100;X-TITLE=Fireside Ro
 om:geo:37.419574,-122.11249800000002
END:VEVENT
BEGIN:VTIMEZONE
TZID:America/Los_Angeles
X-LIC-LOCATION:America/Los_Angeles
BEGIN:DAYLIGHT
DTSTART:20170312T030000
TZOFFSETFROM:-0800
TZOFFSETTO:-0700
TZNAME:PDT
END:DAYLIGHT
END:VTIMEZONE
END:VCALENDAR