BEGIN:VCALENDAR
VERSION:2.0
PRODID:-//wp-events-plugin.com//7.2.2.1//EN
TZID:America/Los_Angeles
X-WR-TIMEZONE:America/Los_Angeles
BEGIN:VEVENT
UID:4472@uucpa.org
DTSTART;TZID=America/Los_Angeles:20181107T190000
DTEND;TZID=America/Los_Angeles:20181107T210000
DTSTAMP:20181008T212922Z
URL:https://www.uucpa.org/events/building-your-own-theology-4/
SUMMARY:Building Your Own Theology
DESCRIPTION:Building Your Own Theology  All of us of any religion\, or none
 \, build our own set of beliefs out of the resources for meaning that lie 
 all around us. In this series of classes\, we explore together some of the
  key questions that are called theological: about what it means to be a go
 od person\, what is holy\, what gives us purpose\, and what actions our be
 liefs compel us to take. Sessions one and two of this series were held in 
 Fall 2017. You are welcome to attend this year\, even if you did not previ
 ously participate.\n\nThe specific topics of this year’s sessions will b
 e:\n\n 	Oct 10: Varieties of Liberal Religious Experience\n 	Nov 7: Meanin
 g and Purpose\n\nDate: Wednesdays\, Oct 10\, Nov 7\n\nTime: 7-10 pm\n\nL
 ocation: Fireside Room\n\nFacilitator: Amy Zucker Morgenstern\n\nContact
 : Amy Zucker Morgenstern (parishmin@uucpa.org)\n\nRegistration: Not requ
 ired\n\n&nbsp\; 
ATTACH;FMTTYPE=image/jpeg:https://www.uucpa.org/wp-content/uploads/2018/07
 /Building-Theology.png
CATEGORIES:Classes
LOCATION:Fireside Room
GEO:37.419574;-122.11249800000002
X-APPLE-STRUCTURED-LOCATION;VALUE=URI;X-ADDRESS=505 E Charleston Road\, Pal
 o Alto\, CA\, 94306\, United States;X-APPLE-RADIUS=100;X-TITLE=Fireside Ro
 om:geo:37.419574,-122.11249800000002
END:VEVENT
BEGIN:VTIMEZONE
TZID:America/Los_Angeles
X-LIC-LOCATION:America/Los_Angeles
BEGIN:STANDARD
DTSTART:20181104T010000
TZOFFSETFROM:-0700
TZOFFSETTO:-0800
TZNAME:PST
END:STANDARD
END:VTIMEZONE
END:VCALENDAR