BEGIN:VCALENDAR
VERSION:2.0
PRODID:-//wp-events-plugin.com//7.2.2.1//EN
TZID:America/Los_Angeles
X-WR-TIMEZONE:America/Los_Angeles
BEGIN:VEVENT
UID:2658@uucpa.org
DTSTART;TZID=America/Los_Angeles:20171122T193000
DTEND;TZID=America/Los_Angeles:20171122T210000
DTSTAMP:20171204T145043Z
URL:https://www.uucpa.org/events/by-your-side-singers-6-2017-11-22/
SUMMARY:By Your Side Singers
DESCRIPTION:By Your Side Singers  By Your Side Singers is UUCPA’s pastora
 l care choir\, begun in the autumn of 2016. Our singers\, in small groups\
 , visit and provide a graceful musical presence for any church member or f
 riend who seeks comfort and strength during times of illness or transition
 . We also serve the Stevenson House senior community. Our repertoire inclu
 des beloved songs from our hymnals and other sources. At our practice sess
 ions\, we explore the power of singing to witness and comfort\, and we sup
 port each other in our own joys and sorrows.\n\n\n\n\n\nDate: 2nd and 4th 
 Wednesday every month\nTime: 7:30–9 pm\nLocation: Room 9\nContact: Melis
 sa Thomson &amp\; Matthew Rosin (singtocare@uucpa.org)\n\nhttps://www.uucp
 a.org/connection/affinity-groups/by-your-side-singers/\n\n\n\n\n 
CATEGORIES:Choir,Music
LOCATION:Room 9
GEO:37.419574;-122.11249800000002
X-APPLE-STRUCTURED-LOCATION;VALUE=URI;X-ADDRESS=505 E Charleston Rd\, Palo 
 Alto\, CA\, 94306\, United States;X-APPLE-RADIUS=100;X-TITLE=Room 9:geo:37
 .419574,-122.11249800000002
END:VEVENT
BEGIN:VTIMEZONE
TZID:America/Los_Angeles
X-LIC-LOCATION:America/Los_Angeles
BEGIN:STANDARD
DTSTART:20171105T010000
TZOFFSETFROM:-0700
TZOFFSETTO:-0800
TZNAME:PST
END:STANDARD
END:VTIMEZONE
END:VCALENDAR