BEGIN:VCALENDAR
VERSION:2.0
PRODID:-//wp-events-plugin.com//7.2.2.1//EN
TZID:America/Los_Angeles
X-WR-TIMEZONE:America/Los_Angeles
BEGIN:VEVENT
UID:12459@uucpa.org
DTSTART;TZID=America/Los_Angeles:20230219T111500
DTEND;TZID=America/Los_Angeles:20230219T120000
DTSTAMP:20230218T173122Z
URL:https://www.uucpa.org/events/campus-vision-town-hall/
SUMMARY:Campus Vision Town Hall
DESCRIPTION:Campus Vision Town Hall  \n\nThe Campus Vision Task Force is re
 ady to roll out our poll for congregants to get your input on what feature
 s you want to see in the remodel project.  The Campus Vision Poll opened 
 Sat\, Feb 18 and closes on Sunday\, Feb 26.\n\n\n\n\n\n\nThere will be a T
 own Hall meeting this Sunday\, Feb 19\, immediately after the service to e
 xplain the poll and answer questions.  The meeting will be live in the Ma
 in Hall and online on the same Zoom as the service.  Stay for a bit after
  the service to hear about how you can make your voice heard.\n\n\n\n\n\n\
 n\n\n\n\n\nQuestions\, as always\, to campus@uucpa.org\n\nHope to see you
  there\,\nCampus Vision Task Force: Sally Ahnger (Chair)\, Maria Almli\, J
 eff Cashdollar\, Kevin Crane\, Bill Hilton\, Edie Keating\, Drew Oman and 
 Barbara Smith-Thomas\n\n\n\n\n\n\n 
ATTACH;FMTTYPE=image/jpeg:https://www.uucpa.org/wp-content/uploads/2023/02
 /Town-Hall-meeting-Campus-Vision-2.png
CATEGORIES:Special Events
LOCATION:Main Hall and online
GEO:37.419383;-122.112258
X-APPLE-STRUCTURED-LOCATION;VALUE=URI;X-ADDRESS=505 E Charleston Rd\, Palo 
 Alto\, CA\, 94306\, United States;X-APPLE-RADIUS=100;X-TITLE=Main Hall and
  online:geo:37.419383,-122.112258
END:VEVENT
BEGIN:VTIMEZONE
TZID:America/Los_Angeles
X-LIC-LOCATION:America/Los_Angeles
BEGIN:STANDARD
DTSTART:20221106T010000
TZOFFSETFROM:-0700
TZOFFSETTO:-0800
TZNAME:PST
END:STANDARD
END:VTIMEZONE
END:VCALENDAR