BEGIN:VCALENDAR
VERSION:2.0
PRODID:-//wp-events-plugin.com//7.2.2.1//EN
TZID:America/Los_Angeles
X-WR-TIMEZONE:America/Los_Angeles
BEGIN:VEVENT
UID:1643@uucpa.org
DTSTART;TZID=America/Los_Angeles:20170701T090000
DTEND;TZID=America/Los_Angeles:20170701T120000
DTSTAMP:20170629T170216Z
URL:https://www.uucpa.org/events/campus-workday-2-2017-07-01/
SUMMARY:Campus Workday
DESCRIPTION:Campus Workday  The June church work day\, sponsored by the
  Building and Grounds Committee is this Saturday\, July 1\, 9 AM - Noon
 . All are welcome.\n\n\n                • Continued work on spr
 inklers.\n\n                • Install blinds in rooms 7 and 8.\n
                 • Weeding\n\nContact: Michael Plass (workday@uu
 cpa.org)\n&nbsp\;\n\nConsider making things even better by joining others 
 at the monthly workday right here at UUCPA. There will be snacks and fine 
 company. Come for some or all of the time. Projects might include painting
  some trim and kitchen cabinets\, pruning shrubs\, organizing closets\, pl
 us some jobs you may have in mind. Join the workday@uucpa.org email list t
 o get the latest information about upcoming workdays.\n 
ATTACH;FMTTYPE=image/jpeg:https://www.uucpa.org/wp-content/uploads/2016/06
 /WorkDays.png
CATEGORIES:Adult
LOCATION:UUCPA
GEO:37.419574;-122.11249800000002
X-APPLE-STRUCTURED-LOCATION;VALUE=URI;X-ADDRESS=505 E Charleston Rd\, Palo 
 Alto\, CA\, 94306\, United States;X-APPLE-RADIUS=100;X-TITLE=UUCPA:geo:37.
 419574,-122.11249800000002
END:VEVENT
BEGIN:VTIMEZONE
TZID:America/Los_Angeles
X-LIC-LOCATION:America/Los_Angeles
BEGIN:DAYLIGHT
DTSTART:20170312T030000
TZOFFSETFROM:-0800
TZOFFSETTO:-0700
TZNAME:PDT
END:DAYLIGHT
END:VTIMEZONE
END:VCALENDAR