BEGIN:VCALENDAR
VERSION:2.0
PRODID:-//wp-events-plugin.com//7.2.2.1//EN
TZID:America/Los_Angeles
X-WR-TIMEZONE:America/Los_Angeles
BEGIN:VEVENT
UID:1655@uucpa.org
DTSTART;TZID=America/Los_Angeles:20180707T090000
DTEND;TZID=America/Los_Angeles:20180707T120000
DTSTAMP:20180706T043805Z
URL:https://www.uucpa.org/events/campus-workday-2-2018-07-07/
SUMMARY:Campus Workday
DESCRIPTION:Campus Workday  Date:                 1st Satur
 day every month\n\nTime:                 9 am-Noon\n\nLoca
 tion:         UUCPA Campus\n\nContact:           Michael
  Plass (workday@uucpa.org)\n\nJuly's Task List:\n\n 	Weeding\n 	Signposts 
 for designated spaces\n 	Plexiglass frames\n 	Room 5 ramp\n 	Make notes fo
 r operational manual\n\nConsider making things even better by joining othe
 rs at the monthly workday right here at UUCPA. There will be snacks and fi
 ne company. Come for some or all of the time. Projects might include paint
 ing some trim and kitchen cabinets\, pruning shrubs\, organizing closets\,
  plus some jobs you may have in mind. Join the workday@uucpa.org email lis
 t to get the latest information about upcoming workdays. 
ATTACH;FMTTYPE=image/jpeg:https://www.uucpa.org/wp-content/uploads/2017/06
 /Campus-Work-Day.png
CATEGORIES:Adult
LOCATION:UUCPA
GEO:37.419574;-122.11249800000002
X-APPLE-STRUCTURED-LOCATION;VALUE=URI;X-ADDRESS=505 E Charleston Rd\, Palo 
 Alto\, CA\, 94306\, United States;X-APPLE-RADIUS=100;X-TITLE=UUCPA:geo:37.
 419574,-122.11249800000002
END:VEVENT
BEGIN:VTIMEZONE
TZID:America/Los_Angeles
X-LIC-LOCATION:America/Los_Angeles
BEGIN:DAYLIGHT
DTSTART:20180311T030000
TZOFFSETFROM:-0800
TZOFFSETTO:-0700
TZNAME:PDT
END:DAYLIGHT
END:VTIMEZONE
END:VCALENDAR