BEGIN:VCALENDAR
VERSION:2.0
PRODID:-//wp-events-plugin.com//7.2.2.1//EN
TZID:America/Los_Angeles
X-WR-TIMEZONE:America/Los_Angeles
BEGIN:VEVENT
UID:8558@uucpa.org
DTSTART;TZID=America/Los_Angeles:20201003T090000
DTEND;TZID=America/Los_Angeles:20201003T120000
DTSTAMP:20201003T152121Z
URL:https://www.uucpa.org/events/campus-workday-5-2020-10-03/
SUMMARY:Campus Workday
DESCRIPTION:Campus Workday  Task list for the October 3\, 2020 work day:\n\
 n 	Check on the filters for the furnaces and wash them.\n 	The lights in t
 he covered patio (next to the Till Evans Garden) are not working.\n 	Check
  damaged rafter tail facing visitor’s lot (Barbara knows which one)\n 	P
 ull off ivy on the parking lot side of covered patio\n 	Gardening\n 	Pick 
 up trash and eucalyptus branches at the back of the parking lot.\n\nConsid
 er making things even better by joining others at the monthly workday righ
 t here at UUCPA. There will be plenty of fine company. Come for some or al
 l of the time. Projects might include painting some trim and kitchen cabin
 ets\, pruning shrubs\, organizing closets\, plus some jobs you may have in
  mind.\n\nContact:        Buildings and Grounds Committee (buildings-a
 nd-grounds@uucpa.org) 
ATTACH;FMTTYPE=image/jpeg:https://www.uucpa.org/wp-content/uploads/2020/09
 /Copy-of-Copy-of-Campus-Work-Day-1.png
LOCATION:UUCPA
GEO:37.419574;-122.11249800000002
X-APPLE-STRUCTURED-LOCATION;VALUE=URI;X-ADDRESS=505 E Charleston Rd\, Palo 
 Alto\, CA\, 94306\, United States;X-APPLE-RADIUS=100;X-TITLE=UUCPA:geo:37.
 419574,-122.11249800000002
END:VEVENT
BEGIN:VTIMEZONE
TZID:America/Los_Angeles
X-LIC-LOCATION:America/Los_Angeles
BEGIN:DAYLIGHT
DTSTART:20200308T030000
TZOFFSETFROM:-0800
TZOFFSETTO:-0700
TZNAME:PDT
END:DAYLIGHT
END:VTIMEZONE
END:VCALENDAR