BEGIN:VCALENDAR
VERSION:2.0
PRODID:-//wp-events-plugin.com//7.2.2.1//EN
TZID:America/Los_Angeles
X-WR-TIMEZONE:America/Los_Angeles
BEGIN:VEVENT
UID:11209@uucpa.org
DTSTART;TZID=America/Los_Angeles:20220709T090000
DTEND;TZID=America/Los_Angeles:20220709T120000
DTSTAMP:20220625T160100Z
URL:https://www.uucpa.org/events/campus-workday-7-2022-07-02/
SUMMARY:Campus Workday (2nd Saturday this month)
DESCRIPTION:Campus Workday (2nd Saturday this month)  We meet the 2nd Satur
 day in July due to the 4th of July holiday.\n\n 	Date:             
  Usually the 1st Saturday every month\n 	Time:              9 am-No
 on\n 	Location:        UUCPA Campus\n 	Contact:        Buildings a
 nd Grounds Committee (buildings-and-grounds@uucpa.org)\n\nConsider making 
 things even better by joining others at the monthly workday right here at 
 UUCPA. There will be plenty of fine company. Come for some or all of the t
 ime. Projects might include painting some trim and kitchen cabinets\, prun
 ing shrubs\, organizing closets\, plus some jobs you may have in mind. 
ATTACH;FMTTYPE=image/jpeg:https://www.uucpa.org/wp-content/uploads/2020/09
 /Copy-of-Copy-of-Campus-Work-Day-1.png
CATEGORIES:Adult,Learning,Ongoing Events,Small Groups
LOCATION:UUCPA
GEO:37.419574;-122.11249800000002
X-APPLE-STRUCTURED-LOCATION;VALUE=URI;X-ADDRESS=505 E Charleston Rd\, Palo 
 Alto\, CA\, 94306\, United States;X-APPLE-RADIUS=100;X-TITLE=UUCPA:geo:37.
 419574,-122.11249800000002
END:VEVENT
BEGIN:VTIMEZONE
TZID:America/Los_Angeles
X-LIC-LOCATION:America/Los_Angeles
BEGIN:DAYLIGHT
DTSTART:20220313T030000
TZOFFSETFROM:-0800
TZOFFSETTO:-0700
TZNAME:PDT
END:DAYLIGHT
END:VTIMEZONE
END:VCALENDAR