BEGIN:VCALENDAR
VERSION:2.0
PRODID:-//wp-events-plugin.com//7.2.2.1//EN
TZID:America/Los_Angeles
X-WR-TIMEZONE:America/Los_Angeles
BEGIN:VEVENT
UID:13863@uucpa.org
DTSTART;TZID=America/Los_Angeles:20240106T090000
DTEND;TZID=America/Los_Angeles:20240106T120000
DTSTAMP:20240106T144701Z
URL:https://www.uucpa.org/events/campus-workday-8-2024-01-06/
SUMMARY:Campus Workday
DESCRIPTION:Campus Workday  UUCPA Campus work morning on Saturday Morning\,
  January 6\, 9-12.\n\nThis month there is a door closer to install in the 
 main hall\, painting along the edges of the benches in the main patio\, an
 d gardening.\n\nQuestions: Contact Robert Neff for questions about the wor
 kday at buildings-and-grounds@uucpa.org.\n\nConsider making things even be
 tter by joining others at the monthly workday right here at UUCPA. There w
 ill be plenty of fine company. Come for some or all of the time. Projects 
 might include painting some trim and kitchen cabinets\, pruning shrubs\, o
 rganizing closets\, plus some jobs you may have in mind. 
ATTACH;FMTTYPE=image/jpeg:https://www.uucpa.org/wp-content/uploads/2020/09
 /Copy-of-Copy-of-Campus-Work-Day-1.png
CATEGORIES:Adult,Learning,Ongoing Events,Small Groups
LOCATION:UUCPA
GEO:37.419574;-122.11249800000002
X-APPLE-STRUCTURED-LOCATION;VALUE=URI;X-ADDRESS=505 E Charleston Rd\, Palo 
 Alto\, CA\, 94306\, United States;X-APPLE-RADIUS=100;X-TITLE=UUCPA:geo:37.
 419574,-122.11249800000002
END:VEVENT
BEGIN:VTIMEZONE
TZID:America/Los_Angeles
X-LIC-LOCATION:America/Los_Angeles
BEGIN:STANDARD
DTSTART:20231105T010000
TZOFFSETFROM:-0700
TZOFFSETTO:-0800
TZNAME:PST
END:STANDARD
END:VTIMEZONE
END:VCALENDAR