BEGIN:VCALENDAR
VERSION:2.0
PRODID:-//wp-events-plugin.com//7.2.2.1//EN
TZID:America/Los_Angeles
X-WR-TIMEZONE:America/Los_Angeles
BEGIN:VEVENT
UID:6008@uucpa.org
DTSTART;TZID=America/Los_Angeles:20191110T130000
DTEND;TZID=America/Los_Angeles:20191110T150000
DTSTAMP:20190728T145858Z
URL:https://www.uucpa.org/events/care-and-nurture-of-your-small-group/
SUMMARY:Care and Nurture of Your Small Group
DESCRIPTION:Care and Nurture of Your Small Group  CARE AND NURTURE OF YOUR 
 SMALL GROUP\n\nDate: Sunday\, Nov 10\nTime: 1-3 pm\nLocation: Room 4/5\nFa
 cilitator: Rev. Amy Zucker Morgenstern (parishmin@uucpa.org)\nContact: Bet
 h Sherman (beth_s@uucpa.org)\nRegistration: Not required\n\nIf you partici
 pate in a small group (or want to)\, if you lead a small group (or want to
 )\, if you’ve ever been frustrated by the problems of a group you were p
 art of\, this workshop is for you. Among our terrific resources: some of t
 he excellent research and writing about the dynamics of small groups in co
 ngregations\, Amy’s expertise from many years of leading small groups in
  and beyond congregations\, and your collective experience. We’ll cover 
 the life-cycle of groups\; working constructively with conflict\; knowing 
 your group’s purpose\, deepening its mission\, and finding the appropria
 te structure\; building trust\; how to bring new people into your group wh
 ile maintaining the group’s cohesion\; publicity and outreach\; and gett
 ing help. We're guessing you have at least one question\, so please bring 
 it with you\, written down and ready to share. 
ATTACH;FMTTYPE=image/jpeg:https://www.uucpa.org/wp-content/uploads/2019/07
 /CARE-AND-NURTURE-OF-YOUR-SMALL-GROUP-1.png
CATEGORIES:Classes
LOCATION:Room 4/5
GEO:37.419574;-122.11249800000002
X-APPLE-STRUCTURED-LOCATION;VALUE=URI;X-ADDRESS=505 E Charleston Rd\, Palo 
 Alto\, CA\, 94306\, United States;X-APPLE-RADIUS=100;X-TITLE=Room 4/5:geo:
 37.419574,-122.11249800000002
END:VEVENT
BEGIN:VTIMEZONE
TZID:America/Los_Angeles
X-LIC-LOCATION:America/Los_Angeles
BEGIN:STANDARD
DTSTART:20191103T010000
TZOFFSETFROM:-0700
TZOFFSETTO:-0800
TZNAME:PST
END:STANDARD
END:VTIMEZONE
END:VCALENDAR