BEGIN:VCALENDAR
VERSION:2.0
PRODID:-//wp-events-plugin.com//7.2.2.1//EN
TZID:America/Los_Angeles
X-WR-TIMEZONE:America/Los_Angeles
BEGIN:VEVENT
UID:16779@uucpa.org
DTSTART;TZID=America/Los_Angeles:20250510T100000
DTEND;TZID=America/Los_Angeles:20250510T130000
DTSTAMP:20250503T173610Z
URL:https://www.uucpa.org/events/ccsm-pica-event-healthy-homes-presentatio
 n-and-panel-discussion/
SUMMARY:CCSM/PICA Event: Healthy Homes Presentation and Panel Discussion
DESCRIPTION:CCSM/PICA Event: Healthy Homes Presentation and Panel Discussio
 n  Do you know that gas stoves emit high levels of unhealthy air pollution
 ? These days electric induction cooktops offer an alternative that has all
  the versatility of gas\, without the pollution.\n\nYou are invited to a f
 ree presentation and panel discussion on replacing your gas range with an 
 induction cooktop from 10 am - 1 pm on Saturday\, May 10\, at the Congrega
 tional Church of San Mateo. The workshop is co-sponsored by CCSM and Penin
 sula Interfaith Climate Action.\n\nSee the attached flyer for details and 
 a link to the Eventbrite registration form. See you there.\n\nHealthy Home
 s flyer_registration\n\nThis event is recommended by UUCPA's Green Sanctua
 ry 
CATEGORIES:Justice,Non-UUCPA
LOCATION:Congregational Church of San Mateo
X-APPLE-STRUCTURED-LOCATION;VALUE=URI;X-ADDRESS=225 Tilton Avenue\, San Mat
 eo\, CA\, United States;X-APPLE-RADIUS=100;X-TITLE=Congregational Church o
 f San Mateo:geo:0,0
END:VEVENT
BEGIN:VTIMEZONE
TZID:America/Los_Angeles
X-LIC-LOCATION:America/Los_Angeles
BEGIN:DAYLIGHT
DTSTART:20250309T030000
TZOFFSETFROM:-0800
TZOFFSETTO:-0700
TZNAME:PDT
END:DAYLIGHT
END:VTIMEZONE
END:VCALENDAR