BEGIN:VCALENDAR
VERSION:2.0
PRODID:-//wp-events-plugin.com//7.2.2.1//EN
TZID:America/Los_Angeles
X-WR-TIMEZONE:America/Los_Angeles
BEGIN:VEVENT
UID:3118@uucpa.org
DTSTART;TZID=America/Los_Angeles:20180228T180000
DTEND;TZID=America/Los_Angeles:20180228T190000
DTSTAMP:20180217T135903Z
URL:https://www.uucpa.org/events/church-auction-how-to/
SUMMARY:Church Auction How-To
DESCRIPTION:Church Auction How-To  After many years\, Pat Thomas is handing
  over the baton on the Annual Church Auction. In a one off swan song event
 \, she will brief all of us on how to pull off awesome church auctions acc
 ompanied by Lisa Helmonds. By splitting the work up among many people\, th
 is next year's auction event should be a roaring success with a manageabl
 e workload.\n\nJoin us on February 28th at 6 pm in Room A for a chance 
 to see brilliance in action. 
CATEGORIES:Special Events
LOCATION:Fireside Room and Zoom
GEO:37.419574;-122.112498
X-APPLE-STRUCTURED-LOCATION;VALUE=URI;X-ADDRESS=505 E Charleston Rd\, Palo 
 Alto\, CA\, 94306\, United States;X-APPLE-RADIUS=100;X-TITLE=Fireside Room
  and Zoom:geo:37.419574,-122.112498
END:VEVENT
BEGIN:VTIMEZONE
TZID:America/Los_Angeles
X-LIC-LOCATION:America/Los_Angeles
BEGIN:STANDARD
DTSTART:20171105T010000
TZOFFSETFROM:-0700
TZOFFSETTO:-0800
TZNAME:PST
END:STANDARD
END:VTIMEZONE
END:VCALENDAR