BEGIN:VCALENDAR
VERSION:2.0
PRODID:-//wp-events-plugin.com//7.2.2.1//EN
TZID:America/Los_Angeles
X-WR-TIMEZONE:America/Los_Angeles
BEGIN:VEVENT
UID:6010@uucpa.org
DTSTART;TZID=America/Los_Angeles:20191020T123000
DTEND;TZID=America/Los_Angeles:20191020T140000
DTSTAMP:20190926T140758Z
URL:https://www.uucpa.org/events/climate-crisis-update-and-action/
SUMMARY:Climate Crisis Update and Action
DESCRIPTION:Climate Crisis Update and Action  CLIMATE CRISIS UPDATE AND ACT
 ION\n\n 	Date: Sunday\, Oct 20\n 	Time: 12:30-2 pm\n 	Location: Fireside R
 oom\n 	Presenter: Bill DeVincenzi\, Climate Reality Project Presenter\n 	C
 ontact: Beth Sherman (beth_s@uucpa.org)\n 	Registration: Not required\n\nW
 hat is the very latest scientific information about the climate crisis? Wo
 uld you like to know what each of us needs to do in the next 12 years in o
 rder for our species to survive – in addition to driving electric cars a
 nd installing solar panels on our homes?\n\nBill DeVincenzi will elaborate
  on the UN Climate Report\, and a similar report published by our own gove
 rnment that agrees with the UN report. He will cover three main topics:\n\
 n 	Must we Change (the problem)\,\n 	Can we Change (solutions available)\,
 \n 	Will we Change (what is being done\, what you can do).\n\nBill DeVince
 nzi\, a Bay Area native\, has had a 28-year career in accounting and finan
 ce-related fields\, at CFO level the last 10 years\, a 25-year career in t
 eaching at San Jose State University\, and has served on many non-profit B
 oards of Directors. In retirement\, he is pursuing “the most vital issue
  of our time\, the impact of climate change on our planet.” He has recen
 tly joined the Elders Climate Action leadership team and the Elders Action
  Network Board of Directors. He attended the Climate Reality Project (CRP)
  training with Al Gore last August\, joined the Santa Clara County Chapter
  of CRP\, and is actively participating in their speaker’s bureau\, pres
 enting the Climate Crisis and solutions. He is devoting his climate-relate
 d activities to his 2 children and 3 grandchildren. 
ATTACH;FMTTYPE=image/jpeg:https://www.uucpa.org/wp-content/uploads/2019/07
 /Climate-Crisis-Update-and-Action.png
CATEGORIES:Classes
LOCATION:Fireside Room
GEO:37.419574;-122.11249800000002
X-APPLE-STRUCTURED-LOCATION;VALUE=URI;X-ADDRESS=505 E Charleston Road\, Pal
 o Alto\, CA\, 94306\, United States;X-APPLE-RADIUS=100;X-TITLE=Fireside Ro
 om:geo:37.419574,-122.11249800000002
END:VEVENT
BEGIN:VTIMEZONE
TZID:America/Los_Angeles
X-LIC-LOCATION:America/Los_Angeles
BEGIN:DAYLIGHT
DTSTART:20190310T030000
TZOFFSETFROM:-0800
TZOFFSETTO:-0700
TZNAME:PDT
END:DAYLIGHT
END:VTIMEZONE
END:VCALENDAR