BEGIN:VCALENDAR
VERSION:2.0
PRODID:-//wp-events-plugin.com//7.2.2.1//EN
TZID:America/Los_Angeles
X-WR-TIMEZONE:America/Los_Angeles
BEGIN:VEVENT
UID:2543@uucpa.org
DTSTART;TZID=America/Los_Angeles:20180520T090000
DTEND;TZID=America/Los_Angeles:20180520T133000
DTSTAMP:20171008T180912Z
URL:https://www.uucpa.org/events/coming-age-service-celebration/
SUMMARY:Coming of Age - Service & Celebration
DESCRIPTION:Coming of Age - Service &amp\; Celebration  Youth lead both ser
 vices\, at 9:30 and 11:00 Afterwards\, potluck lunch from 12:30-1:30. Ther
 e will be time right after lunch for parents to sit down with their child 
 and tell them how fabulous their child is. http://kj6zwr.org/coming-of-age
 / 
CATEGORIES:Children &amp; Youth
LOCATION:Main Hall
X-APPLE-STRUCTURED-LOCATION;VALUE=URI;X-ADDRESS=505 E Charleston Rd\, Palo 
 Alto\, CA\, 94306\, United States;X-APPLE-RADIUS=100;X-TITLE=Main Hall:geo
 :0,0
END:VEVENT
BEGIN:VTIMEZONE
TZID:America/Los_Angeles
X-LIC-LOCATION:America/Los_Angeles
BEGIN:DAYLIGHT
DTSTART:20180311T030000
TZOFFSETFROM:-0800
TZOFFSETTO:-0700
TZNAME:PDT
END:DAYLIGHT
END:VTIMEZONE
END:VCALENDAR