BEGIN:VCALENDAR
VERSION:2.0
PRODID:-//wp-events-plugin.com//7.2.2.1//EN
TZID:America/Los_Angeles
X-WR-TIMEZONE:America/Los_Angeles
BEGIN:VEVENT
UID:4825@uucpa.org
DTSTART;TZID=America/Los_Angeles:20180915T180000
DTEND;TZID=America/Los_Angeles:20180915T220000
DTSTAMP:20180909T155339Z
URL:https://www.uucpa.org/events/coming-of-age-service-project-2018-09-16/
SUMMARY:Coming of Age Service Project
DESCRIPTION:Coming of Age Service Project  Participants will participate in
  4-5 hours of social justice work. To make this easy for youth\, the Comin
 g of Age program will cook and serve dinner to the Hotel de Zink homeless 
 shelter on Sat.\, Sept. 15 from 6-10 p.m. Whether serving dinner for Hote
 l de Zink or other social justice project approved by the ministers\, par
 ticipants must complete a minimum of four hours of social justice work. 
ATTACH;FMTTYPE=image/jpeg:https://www.uucpa.org/wp-content/uploads/2018/08
 /UUCPA-Coming-of-Age-1.png
LOCATION:UUCPA
GEO:37.419574;-122.11249800000002
X-APPLE-STRUCTURED-LOCATION;VALUE=URI;X-ADDRESS=505 E Charleston Rd\, Palo 
 Alto\, CA\, 94306\, United States;X-APPLE-RADIUS=100;X-TITLE=UUCPA:geo:37.
 419574,-122.11249800000002
END:VEVENT
BEGIN:VTIMEZONE
TZID:America/Los_Angeles
X-LIC-LOCATION:America/Los_Angeles
BEGIN:DAYLIGHT
DTSTART:20180311T030000
TZOFFSETFROM:-0800
TZOFFSETTO:-0700
TZNAME:PDT
END:DAYLIGHT
END:VTIMEZONE
END:VCALENDAR