BEGIN:VCALENDAR
VERSION:2.0
PRODID:-//wp-events-plugin.com//7.2.2.1//EN
TZID:America/Los_Angeles
X-WR-TIMEZONE:America/Los_Angeles
BEGIN:VEVENT
UID:18261@uucpa.org
DTSTART;TZID=America/Los_Angeles:20260228T140000
DTEND;TZID=America/Los_Angeles:20260228T160000
DTSTAMP:20260201T035431Z
URL:https://www.uucpa.org/events/dancing-from-within-open-movement-sound-b
 ath-for-all-ages/
SUMMARY:Dancing From Within - Open Movement & Sound Bath for All Ages
DESCRIPTION:Dancing From Within - Open Movement &amp\; Sound Bath for All A
 ges  Do you feel the need for a respite from the worries of life right now
 ? Would you like a deeper sense of connection with your body and your soul
 ?\n\n \n\nIf so\, then please join your fellow church members for an ope
 n movement event\, Dancing From Within on Saturday\, Feb. 28th from 2-4p
 m in UUCPA's Main Hall. There will be a guest DJ who is experienced with 
 curating reflective and life-affirming music\, and all ages are welcome an
 d encouraged. \n\n&nbsp\;\n\nThe style is open or "free" dance\, with no 
 set steps or guidance. Just you\, the dance floor\, and whatever "moves" y
 ou. This allows for whatever expression is called forth from within you\, 
 whether exuberant or mellow\, joyful or contemplative... or perhaps all th
 ose and more! An additional treat will be a healing sound bath towards the
  end of the event\, so bring a yoga mat or blanket to lay on as you soak i
 n the gentle\, calm\, rejuvenating sounds. We will gather together briefly
  at the end in a closing circle.\n\n \n\nBecause this is a time to go wit
 hin and see how movement can deepen your connection with yourself\, we'd 
 appreciate little or no talking and no cell phone use during the dance. (I
 f you really need to attend to something you can step outside.)\n\nPlease 
 contact Marianne Neuwirth with any questions.  Her contact info is availa
 ble by contacting the church office uucpa@uucpa.org. Dancing is good for t
 he soul and helps us connect with ourselves\, so please plan to join Danci
 ng From Within on Feb. 28th! 
ATTACH;FMTTYPE=image/jpeg:https://www.uucpa.org/wp-content/uploads/2026/01
 /Dancing-From-Within-Open-Movement-Sound-Bath-for-All-Ages-2.png
CATEGORIES:Special Events
LOCATION:Main Hall
X-APPLE-STRUCTURED-LOCATION;VALUE=URI;X-ADDRESS=505 E Charleston Rd\, Palo 
 Alto\, CA\, 94306\, United States;X-APPLE-RADIUS=100;X-TITLE=Main Hall:geo
 :0,0
END:VEVENT
BEGIN:VTIMEZONE
TZID:America/Los_Angeles
X-LIC-LOCATION:America/Los_Angeles
BEGIN:STANDARD
DTSTART:20251102T010000
TZOFFSETFROM:-0700
TZOFFSETTO:-0800
TZNAME:PST
END:STANDARD
END:VTIMEZONE
END:VCALENDAR