BEGIN:VCALENDAR
VERSION:2.0
PRODID:-//wp-events-plugin.com//7.2.2.1//EN
TZID:America/Los_Angeles
X-WR-TIMEZONE:America/Los_Angeles
BEGIN:VEVENT
UID:9538@uucpa.org
DTSTART;TZID=America/Los_Angeles;VALUE=DATE:20210314
DTEND;TZID=America/Los_Angeles;VALUE=DATE:20210315
DTSTAMP:20210313T165448Z
URL:https://www.uucpa.org/events/daylight-savings-time-begins/
SUMMARY:Daylight Savings Time Begins
DESCRIPTION:Daylight Savings Time Begins   
CATEGORIES:Special Events
END:VEVENT
BEGIN:VTIMEZONE
TZID:America/Los_Angeles
X-LIC-LOCATION:America/Los_Angeles
BEGIN:STANDARD
DTSTART:20201101T010000
TZOFFSETFROM:-0700
TZOFFSETTO:-0800
TZNAME:PST
END:STANDARD
BEGIN:DAYLIGHT
DTSTART:20210314T030000
TZOFFSETFROM:-0800
TZOFFSETTO:-0700
TZNAME:PDT
END:DAYLIGHT
END:VTIMEZONE
END:VCALENDAR