BEGIN:VCALENDAR
VERSION:2.0
PRODID:-//wp-events-plugin.com//7.2.2.1//EN
TZID:America/Los_Angeles
X-WR-TIMEZONE:America/Los_Angeles
BEGIN:VEVENT
UID:3220@uucpa.org
DTSTART;TZID=America/Los_Angeles:20180311T030000
DTEND;TZID=America/Los_Angeles:20180311T030000
DTSTAMP:20180309T182019Z
URL:https://www.uucpa.org/events/daylight-savings-time-starts/
SUMMARY:Daylight Savings Time Starts!
DESCRIPTION:Daylight Savings Time Starts!  Spring Ahead 
END:VEVENT
BEGIN:VTIMEZONE
TZID:America/Los_Angeles
X-LIC-LOCATION:America/Los_Angeles
BEGIN:STANDARD
DTSTART:20171105T010000
TZOFFSETFROM:-0700
TZOFFSETTO:-0800
TZNAME:PST
END:STANDARD
BEGIN:DAYLIGHT
DTSTART:20180311T030000
TZOFFSETFROM:-0800
TZOFFSETTO:-0700
TZNAME:PDT
END:DAYLIGHT
END:VTIMEZONE
END:VCALENDAR