BEGIN:VCALENDAR
VERSION:2.0
PRODID:-//wp-events-plugin.com//7.2.2.1//EN
TZID:America/Los_Angeles
X-WR-TIMEZONE:America/Los_Angeles
BEGIN:VEVENT
UID:2638@uucpa.org
DTSTART;TZID=America/Los_Angeles:20180211T130000
DTEND;TZID=America/Los_Angeles:20180211T140000
DTSTAMP:20171201T222518Z
URL:https://www.uucpa.org/events/discovering-uucpa-3-2018-02-11/
SUMMARY:Discovering UUCPA
DESCRIPTION:Discovering UUCPA  \n\n\n\nDate: 2nd Sunday every other month: 
 Jan 14\, Mar 11\, May 13 Time: 1-2 pm\nLocation: Room D (Amy’s office)\n
 Facilitator: Rev. Amy Morgenstern\n\nContact: Rev. Amy Morgenstern (parish
 min@uucpa.org) Registration: Not required\n\nAre you a new Unitarian Unive
 rsalist? Considering UUism? Or well-acquainted with UUism\, but new to UUC
 PA? This one-session class is offered every other month after the second s
 ervice to answer your questions and help you find your place in the life o
 f the congregation.\n\nEach session is on a second Sunday to enable you to
  begin with Second-Sunday lunch\, maybe try out some of your questions the
 re\, and then join us for the class at 1:00.\n\nWe will:\n• Share the sp
 iritual explorations that have brought us to this point\n• Get to know o
 ther newcomers and a member and lay leader of the congregation\n• Help e
 ach other articulate what we're looking for in a congregation\, and discov
 er what UUCPA has to offer to match it\n• Ask questions and get answers\
 n\nLearn more about other events for newcomers here:\n\nhttps://www.uucpa.
 org/connection/visiting-us/\n\n\n\n\n&nbsp\; 
ATTACH;FMTTYPE=image/jpeg:https://www.uucpa.org/wp-content/uploads/2016/06
 /Chalice.png
CATEGORIES:Classes
LOCATION:Amy's Office
GEO:37.419574;-122.11249800000002
X-APPLE-STRUCTURED-LOCATION;VALUE=URI;X-ADDRESS=505 E Charleston Rd\, Palo 
 Alto\, CA\, United States;X-APPLE-RADIUS=100;X-TITLE=Amy's Office:geo:37.4
 19574,-122.11249800000002
END:VEVENT
BEGIN:VTIMEZONE
TZID:America/Los_Angeles
X-LIC-LOCATION:America/Los_Angeles
BEGIN:STANDARD
DTSTART:20171105T010000
TZOFFSETFROM:-0700
TZOFFSETTO:-0800
TZNAME:PST
END:STANDARD
END:VTIMEZONE
END:VCALENDAR