BEGIN:VCALENDAR
VERSION:2.0
PRODID:-//wp-events-plugin.com//7.2.2.1//EN
TZID:America/Los_Angeles
X-WR-TIMEZONE:America/Los_Angeles
BEGIN:VEVENT
UID:10666@uucpa.org
DTSTART;TZID=America/Los_Angeles:20220612T130000
DTEND;TZID=America/Los_Angeles:20220612T140000
DTSTAMP:20220612T035404Z
URL:https://www.uucpa.org/events/discovering-uucpa-9-2022-06-12/
SUMMARY:NO Discovering UUCPA today
DESCRIPTION:NO Discovering UUCPA today  To encourage all to come to the Cam
 pus Vision Workshop\, Amy is not holding Discovering UUCPA today. Since sh
 e will be on vacation in July\, our next gathering will be August 14. Plea
 se mark your calendar for that date!\n\nWhen: Second Sunday of most months
 \, 1-2pmWhere: Zoom online meeting Led by: Rev. Amy Zucker Morgenstern\, P
 arish Minister\n\nThe sessions rotate through four themes–jump in in any
  order.\n\n1. UU Roots: the origins of today’s Unitarian Universalism.\n
 \n2. Finding Your Path At / With UUCPA: building your theology\, nurturing
  your spirit\n\n3. Education and Justice: our philosophy of education and 
 action\n\n4. How Things Work / Volunteering and Membership: how we make de
 cisions and how you can be a part of this volunteer-led community (this is
  our August 14 topic)\n\nIn addition\, we’ll be able to share the spirit
 ual explorations that have brought us to this point and ask every question
  that’s on our minds — and even get the answers.\n\nWhen in-person gat
 herings are easier\, we will re-introduce a tour of the church buildings a
 nd grounds\, with a brief history of the congregation told along the way.\
 n\nDetails:\n\n 	Time: 1-2 pm\n 	Facilitator: Rev. Amy Morgenstern\n 	Cont
 act: Amy (parishmin@uucpa.org)\n 	Zoom link is here.\n\n&nbsp\; 
CATEGORIES:Newcomers
END:VEVENT
BEGIN:VTIMEZONE
TZID:America/Los_Angeles
X-LIC-LOCATION:America/Los_Angeles
BEGIN:DAYLIGHT
DTSTART:20220313T030000
TZOFFSETFROM:-0800
TZOFFSETTO:-0700
TZNAME:PDT
END:DAYLIGHT
END:VTIMEZONE
END:VCALENDAR