BEGIN:VCALENDAR
VERSION:2.0
PRODID:-//wp-events-plugin.com//7.2.2.1//EN
TZID:America/Los_Angeles
X-WR-TIMEZONE:America/Los_Angeles
BEGIN:VEVENT
UID:10667@uucpa.org
DTSTART;TZID=America/Los_Angeles:20220710T130000
DTEND;TZID=America/Los_Angeles:20220710T140000
DTSTAMP:20220612T035736Z
URL:https://www.uucpa.org/events/discovering-uucpa-9-2022-07-10/
SUMMARY:NO Discovering UUCPA today
DESCRIPTION:NO Discovering UUCPA today  Amy is on vacation\, so our next ga
 thering will be August 14. Please mark your calendar for that date!\n\n- -
  -\n\nWhen: Second Sunday of most months\, 1-2pmWhere: Zoom online meeting
  Led by: Rev. Amy Zucker Morgenstern\, Parish Minister\n\nThe sessions rot
 ate through four themes–jump in in any order.\n\n1. UU Roots: the origin
 s of today’s Unitarian Universalism.\n\n2. Finding Your Path At / With U
 UCPA: building your theology\, nurturing your spirit\n\n3. Education and J
 ustice: our philosophy of education and action\n\n4. How Things Work / Vol
 unteering and Membership: how we make decisions and how you can be a part 
 of this volunteer-led community (this is our August 14 topic)\n\nIn additi
 on\, we’ll be able to share the spiritual explorations that have brought
  us to this point and ask every question that’s on our minds — and eve
 n get the answers.\n\nWhen in-person gatherings are easier\, we will re-in
 troduce a tour of the church buildings and grounds\, with a brief history 
 of the congregation told along the way.\n\nDetails:\n\n 	Time: 1-2 pm\n 	F
 acilitator: Rev. Amy Morgenstern\n 	Contact: Amy (parishmin@uucpa.org)\n 	
 Zoom link is here.\n\n&nbsp\; 
CATEGORIES:Newcomers
END:VEVENT
BEGIN:VTIMEZONE
TZID:America/Los_Angeles
X-LIC-LOCATION:America/Los_Angeles
BEGIN:DAYLIGHT
DTSTART:20220313T030000
TZOFFSETFROM:-0800
TZOFFSETTO:-0700
TZNAME:PDT
END:DAYLIGHT
END:VTIMEZONE
END:VCALENDAR