BEGIN:VCALENDAR
VERSION:2.0
PRODID:-//wp-events-plugin.com//7.2.2.1//EN
TZID:America/Los_Angeles
X-WR-TIMEZONE:America/Los_Angeles
BEGIN:VEVENT
UID:14771@uucpa.org
DTSTART;TZID=America/Los_Angeles:20250211T191500
DTEND;TZID=America/Los_Angeles:20250211T204500
DTSTAMP:20250208T215929Z
URL:https://www.uucpa.org/events/dismantling-white-supremacy-2-2025-02-11/
SUMMARY:Dismantling White Supremacy
DESCRIPTION:Dismantling White Supremacy  \n\n\n\n\n\n\n\n\n\n\nUUCPA's Dism
 antling White Supremacy group meets on the 2nd Tuesday of the month.\n\n\n
 \n\nOn Tuesday\, February 11\, 2025\, we will use this space to create the
  conversation we need right now\, in the political crisis that threatens o
 ur country and is harming so many. We won't do any dumping\, venting\, or 
 ranting. Instead\, we'll share what we're doing that we find helpful (if w
 e have found anything)\, and listen to each other. Others will help guaran
 tee a safe space for sharing by co-hosting the Zoom room. Amy will facilit
 ate the conversation\, help us center ourselves\, and provide resources ab
 out what we can do to both tend to our world and sustain our spirits.\n\n\
 n\n\nIf you would like to attend this session and are not subscribed to th
 e Dismantling White Supremacy email list\, please email dismantlingwhit
 esupremacy+subscribe@uucpa.org. Zoom information for the session will be s
 ent to this list early next week. We welcome new attendees at any time!\n\
 n\n\n\n\n\n\n\n\n\n 
CATEGORIES:Adult,Learning,Ongoing Events,Small Groups
END:VEVENT
BEGIN:VTIMEZONE
TZID:America/Los_Angeles
X-LIC-LOCATION:America/Los_Angeles
BEGIN:STANDARD
DTSTART:20241103T010000
TZOFFSETFROM:-0700
TZOFFSETTO:-0800
TZNAME:PST
END:STANDARD
END:VTIMEZONE
END:VCALENDAR